BEGIN:VCALENDAR
VERSION:2.0
PRODID:-//Working It Out Inc. - ECPv6.15.20//NONSGML v1.0//EN
CALSCALE:GREGORIAN
METHOD:PUBLISH
X-ORIGINAL-URL:https://www.workingitout.org.au
X-WR-CALDESC:Events for Working It Out Inc.
REFRESH-INTERVAL;VALUE=DURATION:PT1H
X-Robots-Tag:noindex
X-PUBLISHED-TTL:PT1H
BEGIN:VTIMEZONE
TZID:UTC
BEGIN:STANDARD
TZOFFSETFROM:+0000
TZOFFSETTO:+0000
TZNAME:UTC
DTSTART:20290101T000000
END:STANDARD
END:VTIMEZONE
BEGIN:VTIMEZONE
TZID:Australia/Hobart
BEGIN:STANDARD
TZOFFSETFROM:+1100
TZOFFSETTO:+1000
TZNAME:AEST
DTSTART:20290331T160000
END:STANDARD
BEGIN:DAYLIGHT
TZOFFSETFROM:+1000
TZOFFSETTO:+1100
TZNAME:AEDT
DTSTART:20291006T160000
END:DAYLIGHT
BEGIN:STANDARD
TZOFFSETFROM:+1100
TZOFFSETTO:+1000
TZNAME:AEST
DTSTART:20300406T160000
END:STANDARD
BEGIN:DAYLIGHT
TZOFFSETFROM:+1000
TZOFFSETTO:+1100
TZNAME:AEDT
DTSTART:20301005T160000
END:DAYLIGHT
BEGIN:STANDARD
TZOFFSETFROM:+1100
TZOFFSETTO:+1000
TZNAME:AEST
DTSTART:20310405T160000
END:STANDARD
BEGIN:DAYLIGHT
TZOFFSETFROM:+1000
TZOFFSETTO:+1100
TZNAME:AEDT
DTSTART:20311004T160000
END:DAYLIGHT
BEGIN:STANDARD
TZOFFSETFROM:+1100
TZOFFSETTO:+1000
TZNAME:AEST
DTSTART:20320403T160000
END:STANDARD
BEGIN:DAYLIGHT
TZOFFSETFROM:+1000
TZOFFSETTO:+1100
TZNAME:AEDT
DTSTART:20321002T160000
END:DAYLIGHT
END:VTIMEZONE
BEGIN:VEVENT
DTSTART;TZID=UTC:20301204T173000
DTEND;TZID=UTC:20301204T183000
DTSTAMP:20260420T010221
CREATED:20260203T054508Z
LAST-MODIFIED:20260203T054544Z
UID:10008519-1922635800-1922639400@www.workingitout.org.au
SUMMARY:Support Group for Parents & Carers of LGBTIQ+ Children
DESCRIPTION:Do you have questions about your child’s gender\, sexuality or intersex status? \n\n\n\nWould you like to meet other parents of children with diverse genders\, sexual orientations and bodies? \n\n\n\nHosted by one of our LGBTIQA+ Support Workers\, you can join this monthly group online to support\, learn and grow together. \n\n\n\nEmail ani@workingitout.org.au for more information\, or to get the Teams link.
URL:https://www.workingitout.org.au/event/support-group-for-parents-carers-of-lgbtiq-children-2/2030-12-04/
CATEGORIES:WIO peer support group
ATTACH;FMTTYPE=image/png:https://www.workingitout.org.au/wp-content/uploads/2020/08/Parent-Support-Group-Banner-1.png
END:VEVENT
BEGIN:VEVENT
DTSTART;TZID=Australia/Hobart:20301210T174500
DTEND;TZID=Australia/Hobart:20301210T190000
DTSTAMP:20260420T010221
CREATED:20260312T005135Z
LAST-MODIFIED:20260320T022153Z
UID:10008963-1923155100-1923159600@www.workingitout.org.au
SUMMARY:Gender Group - HOBART
DESCRIPTION:HOBART GENDER PEER SUPPORT GROUP (IN PERSON) \nWorking It Out’s Hobart based in person Gender Peer Support Group occurs on the first Tuesday of each month at Criterion House 108 Bathurst St. Nipaluna/Hobart. Except April 2026 when it will be held on the 2nd Tuesday (14th April). \nDoors open 5:45pm for a 6pm start. The group goes until 7pm. Enter via the Criterion House entrance on the left-hand side of the Flower Room. \nFor more info contact don@workingitout.org.au \nTASMANIA WIDE ONLINE GENDER PEER SUPPORT GROUP \nWorking It Out’s statewide Online Gender Support Group is on the third Tuesday of each month via Teams. From 5:45pm to 7pm. Contact ambrose@workingitout.org.au for the Teams link. \nPeople from all parts of the state who are aged 18 and over are welcome to attend gender support groups online. Get in touch with Rosie in advance via email to receive the Teams meeting link if you’re planning on attending the online group. ambrose@workingitout.org.au \nBURNIE & DEVONPORT IN PERSON GENDER PEER SUPPORT GROUPS \nWorking It Out also run: \nBurnie Gender Support Group 5:30 – 7pm every second Wednesday of the month. \nDevonport Gender Support Group5:30 – 7pm every fourth Thursday of every month \nContact garry@workingitout.org.au \nIf you have any questions\, concerns etc. please contact our main office via phone (6231 1200) or email (info@workingitout.org.au) \n\n \n__________________________________________________\nThis group offers gender identity peer support and discussion for anyone wanting to connect with others who are trans and gender diverse or questioning their gender identity.\nThis group is most suitable for those over 18.\nIf you are under 18\, we have another ‘all inclusive’ group for LGBTIQA+ and questioning young people called – OUTspace (see Events Calendar) .\n\n\n\n\n\n\nBack to News/Events
URL:https://www.workingitout.org.au/event/gender-group-hobart/2030-12-10/
LOCATION:WIO HQ\, Hobart\, 7000\, Australia
CATEGORIES:WIO peer support group
ATTACH;FMTTYPE=image/jpeg:https://www.workingitout.org.au/wp-content/uploads/2026/03/Gender-Group-Square.jpg
END:VEVENT
BEGIN:VEVENT
DTSTART;TZID=UTC:20301211T103000
DTEND;TZID=UTC:20301211T113000
DTSTAMP:20260420T010221
CREATED:20251218T053651Z
LAST-MODIFIED:20251218T053805Z
UID:10008318-1923215400-1923219000@www.workingitout.org.au
SUMMARY:Pride Coffee - Launceston
DESCRIPTION:Pride Coffee is a monthly catch-up for the LGBTIQA+ community\, friends and allies. Held at Earthy Eats\, 19 Kingsway\, Launceston on the 2nd Wednesday of every month at 11:00 am. For any enquiries please contact: joseph@workingitout.org.au Hope to See you there!
URL:https://www.workingitout.org.au/event/pride-coffee-launceston-2/2030-12-11/
LOCATION:Earthy Eats\, 19 Kingsway\, Launceston\, TAS\, 7250\, Australia
CATEGORIES:WIO peer support group
ATTACH;FMTTYPE=image/jpeg:https://www.workingitout.org.au/wp-content/uploads/2025/05/Launceston-Pride-Coffee-Jo-1.jpg
END:VEVENT
BEGIN:VEVENT
DTSTART;TZID=UTC:20310101T173000
DTEND;TZID=UTC:20310101T183000
DTSTAMP:20260420T010221
CREATED:20260203T054508Z
LAST-MODIFIED:20260203T054544Z
UID:10008520-1925055000-1925058600@www.workingitout.org.au
SUMMARY:Support Group for Parents & Carers of LGBTIQ+ Children
DESCRIPTION:Do you have questions about your child’s gender\, sexuality or intersex status? \n\n\n\nWould you like to meet other parents of children with diverse genders\, sexual orientations and bodies? \n\n\n\nHosted by one of our LGBTIQA+ Support Workers\, you can join this monthly group online to support\, learn and grow together. \n\n\n\nEmail ani@workingitout.org.au for more information\, or to get the Teams link.
URL:https://www.workingitout.org.au/event/support-group-for-parents-carers-of-lgbtiq-children-2/2031-01-01/
CATEGORIES:WIO peer support group
ATTACH;FMTTYPE=image/png:https://www.workingitout.org.au/wp-content/uploads/2020/08/Parent-Support-Group-Banner-1.png
END:VEVENT
BEGIN:VEVENT
DTSTART;TZID=Australia/Hobart:20310114T174500
DTEND;TZID=Australia/Hobart:20310114T190000
DTSTAMP:20260420T010221
CREATED:20260312T005135Z
LAST-MODIFIED:20260320T022153Z
UID:10008964-1926179100-1926183600@www.workingitout.org.au
SUMMARY:Gender Group - HOBART
DESCRIPTION:HOBART GENDER PEER SUPPORT GROUP (IN PERSON) \nWorking It Out’s Hobart based in person Gender Peer Support Group occurs on the first Tuesday of each month at Criterion House 108 Bathurst St. Nipaluna/Hobart. Except April 2026 when it will be held on the 2nd Tuesday (14th April). \nDoors open 5:45pm for a 6pm start. The group goes until 7pm. Enter via the Criterion House entrance on the left-hand side of the Flower Room. \nFor more info contact don@workingitout.org.au \nTASMANIA WIDE ONLINE GENDER PEER SUPPORT GROUP \nWorking It Out’s statewide Online Gender Support Group is on the third Tuesday of each month via Teams. From 5:45pm to 7pm. Contact ambrose@workingitout.org.au for the Teams link. \nPeople from all parts of the state who are aged 18 and over are welcome to attend gender support groups online. Get in touch with Rosie in advance via email to receive the Teams meeting link if you’re planning on attending the online group. ambrose@workingitout.org.au \nBURNIE & DEVONPORT IN PERSON GENDER PEER SUPPORT GROUPS \nWorking It Out also run: \nBurnie Gender Support Group 5:30 – 7pm every second Wednesday of the month. \nDevonport Gender Support Group5:30 – 7pm every fourth Thursday of every month \nContact garry@workingitout.org.au \nIf you have any questions\, concerns etc. please contact our main office via phone (6231 1200) or email (info@workingitout.org.au) \n\n \n__________________________________________________\nThis group offers gender identity peer support and discussion for anyone wanting to connect with others who are trans and gender diverse or questioning their gender identity.\nThis group is most suitable for those over 18.\nIf you are under 18\, we have another ‘all inclusive’ group for LGBTIQA+ and questioning young people called – OUTspace (see Events Calendar) .\n\n\n\n\n\n\nBack to News/Events
URL:https://www.workingitout.org.au/event/gender-group-hobart/2031-01-14/
LOCATION:WIO HQ\, Hobart\, 7000\, Australia
CATEGORIES:WIO peer support group
ATTACH;FMTTYPE=image/jpeg:https://www.workingitout.org.au/wp-content/uploads/2026/03/Gender-Group-Square.jpg
END:VEVENT
BEGIN:VEVENT
DTSTART;TZID=Australia/Hobart:20310211T174500
DTEND;TZID=Australia/Hobart:20310211T190000
DTSTAMP:20260420T010221
CREATED:20260312T005135Z
LAST-MODIFIED:20260320T022153Z
UID:10008965-1928598300-1928602800@www.workingitout.org.au
SUMMARY:Gender Group - HOBART
DESCRIPTION:HOBART GENDER PEER SUPPORT GROUP (IN PERSON) \nWorking It Out’s Hobart based in person Gender Peer Support Group occurs on the first Tuesday of each month at Criterion House 108 Bathurst St. Nipaluna/Hobart. Except April 2026 when it will be held on the 2nd Tuesday (14th April). \nDoors open 5:45pm for a 6pm start. The group goes until 7pm. Enter via the Criterion House entrance on the left-hand side of the Flower Room. \nFor more info contact don@workingitout.org.au \nTASMANIA WIDE ONLINE GENDER PEER SUPPORT GROUP \nWorking It Out’s statewide Online Gender Support Group is on the third Tuesday of each month via Teams. From 5:45pm to 7pm. Contact ambrose@workingitout.org.au for the Teams link. \nPeople from all parts of the state who are aged 18 and over are welcome to attend gender support groups online. Get in touch with Rosie in advance via email to receive the Teams meeting link if you’re planning on attending the online group. ambrose@workingitout.org.au \nBURNIE & DEVONPORT IN PERSON GENDER PEER SUPPORT GROUPS \nWorking It Out also run: \nBurnie Gender Support Group 5:30 – 7pm every second Wednesday of the month. \nDevonport Gender Support Group5:30 – 7pm every fourth Thursday of every month \nContact garry@workingitout.org.au \nIf you have any questions\, concerns etc. please contact our main office via phone (6231 1200) or email (info@workingitout.org.au) \n\n \n__________________________________________________\nThis group offers gender identity peer support and discussion for anyone wanting to connect with others who are trans and gender diverse or questioning their gender identity.\nThis group is most suitable for those over 18.\nIf you are under 18\, we have another ‘all inclusive’ group for LGBTIQA+ and questioning young people called – OUTspace (see Events Calendar) .\n\n\n\n\n\n\nBack to News/Events
URL:https://www.workingitout.org.au/event/gender-group-hobart/2031-02-11/
LOCATION:WIO HQ\, Hobart\, 7000\, Australia
CATEGORIES:WIO peer support group
ATTACH;FMTTYPE=image/jpeg:https://www.workingitout.org.au/wp-content/uploads/2026/03/Gender-Group-Square.jpg
END:VEVENT
BEGIN:VEVENT
DTSTART;TZID=Australia/Hobart:20310311T174500
DTEND;TZID=Australia/Hobart:20310311T190000
DTSTAMP:20260420T010221
CREATED:20260312T005135Z
LAST-MODIFIED:20260320T022153Z
UID:10008966-1931017500-1931022000@www.workingitout.org.au
SUMMARY:Gender Group - HOBART
DESCRIPTION:HOBART GENDER PEER SUPPORT GROUP (IN PERSON) \nWorking It Out’s Hobart based in person Gender Peer Support Group occurs on the first Tuesday of each month at Criterion House 108 Bathurst St. Nipaluna/Hobart. Except April 2026 when it will be held on the 2nd Tuesday (14th April). \nDoors open 5:45pm for a 6pm start. The group goes until 7pm. Enter via the Criterion House entrance on the left-hand side of the Flower Room. \nFor more info contact don@workingitout.org.au \nTASMANIA WIDE ONLINE GENDER PEER SUPPORT GROUP \nWorking It Out’s statewide Online Gender Support Group is on the third Tuesday of each month via Teams. From 5:45pm to 7pm. Contact ambrose@workingitout.org.au for the Teams link. \nPeople from all parts of the state who are aged 18 and over are welcome to attend gender support groups online. Get in touch with Rosie in advance via email to receive the Teams meeting link if you’re planning on attending the online group. ambrose@workingitout.org.au \nBURNIE & DEVONPORT IN PERSON GENDER PEER SUPPORT GROUPS \nWorking It Out also run: \nBurnie Gender Support Group 5:30 – 7pm every second Wednesday of the month. \nDevonport Gender Support Group5:30 – 7pm every fourth Thursday of every month \nContact garry@workingitout.org.au \nIf you have any questions\, concerns etc. please contact our main office via phone (6231 1200) or email (info@workingitout.org.au) \n\n \n__________________________________________________\nThis group offers gender identity peer support and discussion for anyone wanting to connect with others who are trans and gender diverse or questioning their gender identity.\nThis group is most suitable for those over 18.\nIf you are under 18\, we have another ‘all inclusive’ group for LGBTIQA+ and questioning young people called – OUTspace (see Events Calendar) .\n\n\n\n\n\n\nBack to News/Events
URL:https://www.workingitout.org.au/event/gender-group-hobart/2031-03-11/
LOCATION:WIO HQ\, Hobart\, 7000\, Australia
CATEGORIES:WIO peer support group
ATTACH;FMTTYPE=image/jpeg:https://www.workingitout.org.au/wp-content/uploads/2026/03/Gender-Group-Square.jpg
END:VEVENT
END:VCALENDAR