BEGIN:VCALENDAR
VERSION:2.0
PRODID:-//Working It Out Inc. - ECPv6.15.20//NONSGML v1.0//EN
CALSCALE:GREGORIAN
METHOD:PUBLISH
X-WR-CALNAME:Working It Out Inc.
X-ORIGINAL-URL:https://www.workingitout.org.au
X-WR-CALDESC:Events for Working It Out Inc.
REFRESH-INTERVAL;VALUE=DURATION:PT1H
X-Robots-Tag:noindex
X-PUBLISHED-TTL:PT1H
BEGIN:VTIMEZONE
TZID:UTC
BEGIN:STANDARD
TZOFFSETFROM:+0000
TZOFFSETTO:+0000
TZNAME:UTC
DTSTART:20240101T000000
END:STANDARD
END:VTIMEZONE
BEGIN:VEVENT
DTSTART;TZID=UTC:20250402T103000
DTEND;TZID=UTC:20250402T113000
DTSTAMP:20260419T142439
CREATED:20250307T040848Z
LAST-MODIFIED:20250529T013839Z
UID:10005158-1743589800-1743593400@www.workingitout.org.au
SUMMARY:Pride Coffee - Deloraine
DESCRIPTION:Pride Coffee is a monthly catch-up for the LGBTIQA+ community\, friends and allies. Held at Deloraine Deli in Deloraine on the 1st Wednesday of every month at 10:30am. \n\n\n\nPlease RSVP to Joseph@workingitout.org.au so we can ensure enough space for us! \n\n\n\nHope to see you there!
URL:https://www.workingitout.org.au/event/pride-coffee-deloraine-3/2025-04-02/
LOCATION:Deloraine Deli\, 81 Emu Bay Road\, Deloraine\, TAS\, 7250\, Australia
ATTACH;FMTTYPE=image/jpeg:https://www.workingitout.org.au/wp-content/uploads/2023/11/11.jpg
END:VEVENT
BEGIN:VEVENT
DTSTART;TZID=UTC:20250403T173000
DTEND;TZID=UTC:20250403T193000
DTSTAMP:20260419T142439
CREATED:20250113T031614Z
LAST-MODIFIED:20250617T045438Z
UID:10003528-1743701400-1743708600@www.workingitout.org.au
SUMMARY:OutSpace Launceston / Thyne House
DESCRIPTION:A casual youth (16-25) games night for LGBTIQA+ folks and allies. Thyne House residents and visitors are welcome. Contact Joseph at joseph@workingitout.org.au for more details.\n\n\n\n.
URL:https://www.workingitout.org.au/event/games-night-2/2025-04-03/
LOCATION:Tasmania
ATTACH;FMTTYPE=image/jpeg:https://www.workingitout.org.au/wp-content/uploads/2025/01/OUTspace-Thyne-House-2025.jpg
END:VEVENT
BEGIN:VEVENT
DTSTART;TZID=UTC:20250404T170000
DTEND;TZID=UTC:20250404T190000
DTSTAMP:20260419T142439
CREATED:20250307T040210Z
LAST-MODIFIED:20250307T040218Z
UID:10003338-1743786000-1743793200@www.workingitout.org.au
SUMMARY:Queer Drinks - Launceston and Northern Tasmania
DESCRIPTION:Come along for a friendly catch-up at the welcoming Royal Oak. All genders\, sexualities\, bodies and allies are welcome! You’ll find us at the end of the public bar\, in the couch area\, under the Pride flag. Contact their Facebook group for more details.
URL:https://www.workingitout.org.au/event/queer-drinks-launceston-and-northern-tasmania-3/2025-04-04/
LOCATION:The Royal Oak\, 14 Brisbane St\, Launceston\, TAS\, 7250\, Australia
ATTACH;FMTTYPE=image/png:https://www.workingitout.org.au/wp-content/uploads/2024/06/Queer-Drinks.png
END:VEVENT
BEGIN:VEVENT
DTSTART;TZID=UTC:20250405T103000
DTEND;TZID=UTC:20250405T113000
DTSTAMP:20260419T142439
CREATED:20250226T010341Z
LAST-MODIFIED:20250307T040442Z
UID:10005669-1743849000-1743852600@www.workingitout.org.au
SUMMARY:Pride Coffee - Launceston
DESCRIPTION:Pride Coffee is a monthly catch-up for the LGBTIQA+ community\, friends and allies. Held at Earthy Eats in Launceston on the 2nd Wednesday of every month at 11:00 am. For any enquiries please contact: joseph@workingitout.org.au Hope to See you there!
URL:https://www.workingitout.org.au/event/pride-coffee-launceston-5/2025-04-05/
LOCATION:Earthy Eats\, 19 Kingsway\, Launceston\, TAS\, 7250\, Australia
ATTACH;FMTTYPE=image/png:https://www.workingitout.org.au/wp-content/uploads/2024/03/Launceston-Pride-Coffee-Jo.png
END:VEVENT
END:VCALENDAR