BEGIN:VCALENDAR
VERSION:2.0
PRODID:-//Working It Out Inc. - ECPv6.15.20//NONSGML v1.0//EN
CALSCALE:GREGORIAN
METHOD:PUBLISH
X-WR-CALNAME:Working It Out Inc.
X-ORIGINAL-URL:https://www.workingitout.org.au
X-WR-CALDESC:Events for Working It Out Inc.
REFRESH-INTERVAL;VALUE=DURATION:PT1H
X-Robots-Tag:noindex
X-PUBLISHED-TTL:PT1H
BEGIN:VTIMEZONE
TZID:Australia/Hobart
BEGIN:STANDARD
TZOFFSETFROM:+1100
TZOFFSETTO:+1000
TZNAME:AEST
DTSTART:20240406T160000
END:STANDARD
BEGIN:DAYLIGHT
TZOFFSETFROM:+1000
TZOFFSETTO:+1100
TZNAME:AEDT
DTSTART:20241005T160000
END:DAYLIGHT
BEGIN:STANDARD
TZOFFSETFROM:+1100
TZOFFSETTO:+1000
TZNAME:AEST
DTSTART:20250405T160000
END:STANDARD
BEGIN:DAYLIGHT
TZOFFSETFROM:+1000
TZOFFSETTO:+1100
TZNAME:AEDT
DTSTART:20251004T160000
END:DAYLIGHT
BEGIN:STANDARD
TZOFFSETFROM:+1100
TZOFFSETTO:+1000
TZNAME:AEST
DTSTART:20260404T160000
END:STANDARD
BEGIN:DAYLIGHT
TZOFFSETFROM:+1000
TZOFFSETTO:+1100
TZNAME:AEDT
DTSTART:20261003T160000
END:DAYLIGHT
END:VTIMEZONE
BEGIN:VTIMEZONE
TZID:UTC
BEGIN:STANDARD
TZOFFSETFROM:+0000
TZOFFSETTO:+0000
TZNAME:UTC
DTSTART:20240101T000000
END:STANDARD
END:VTIMEZONE
BEGIN:VEVENT
DTSTART;TZID=Australia/Hobart:20250407T160000
DTEND;TZID=Australia/Hobart:20250407T173000
DTSTAMP:20260419T155635
CREATED:20250227T223638Z
LAST-MODIFIED:20250617T044856Z
UID:10005729-1744041600-1744047000@www.workingitout.org.au
SUMMARY:OUTspace Hobart
DESCRIPTION:OUTspace is a social and peer support group for LGBTIQA+ young people\, and for young people who are not sure about their gender and/or sexuality. It’s an opportunity to meet\, hangout and learn from your community. \nOUTspace is a confidential group\, which means we can’t tell anyone that you’ve come to OUTspace without your permission. This also means that we don’t ‘out’ each other in public. \nWhat happens at OUTspace? \n\nIntroduce ourselves and our pronouns\nMake a group agreement so we feel safe to participate\nHear about and discuss LGBTIQA+ news\, events and culture\nShare experiences and ask questions of each other\nSocialising activities (boardgames/card games/video games)\nOccasional special events\, such as movie screenings\n\nOUTspace Hobart is facilitated at The Link Youth Health Service at YouthARC\, 1 Market Place\, Hobart. \nContact info@workingitout.org.au for more information. \nNote that this venue has level access and accessible toilets. \n\n\n\n\n \n\n \n\n\n \n\n\n\n\n\n\n\n\n\n\n\n\nBack to News/Events
URL:https://www.workingitout.org.au/event/outspace-hobart-7/2025-04-07/
LOCATION:Youth Arts & Recreation Centre\, 1 Market Place\, Hobart\, Tasmania\, 7000\, Australia
CATEGORIES:WIO peer support group
ATTACH;FMTTYPE=image/jpeg:https://www.workingitout.org.au/wp-content/uploads/2025/02/OUTspace-Hobart-2025.jpg
END:VEVENT
BEGIN:VEVENT
DTSTART;TZID=UTC:20250408T043000
DTEND;TZID=UTC:20250408T053000
DTSTAMP:20260419T155635
CREATED:20241126T001542Z
LAST-MODIFIED:20250529T041606Z
UID:10006740-1744086600-1744090200@www.workingitout.org.au
SUMMARY:LGBTIQA+ Carers' Support Group (Online)
DESCRIPTION:Our LGBTIQA+ Carers’ Support Group meets online from 4:30 p.m. to 5:30 p.m. on the second Tuesday of each month to provide support and connection in a safe and confidential space. Anyone from the rainbow community who is in a caring role is welcome to attend. For the meeting link and for more info mail: garry@workingitout.org.au 0455 031 262
URL:https://www.workingitout.org.au/event/lgbtiqa-carers-support-group-online-2/2025-04-08/
LOCATION:Tasmania
END:VEVENT
BEGIN:VEVENT
DTSTART;TZID=UTC:20250409T173000
DTEND;TZID=UTC:20250409T190000
DTSTAMP:20260419T155635
CREATED:20240506T014157Z
LAST-MODIFIED:20241017T023726Z
UID:10002776-1744219800-1744225200@www.workingitout.org.au
SUMMARY:Gender Group - Burnie
DESCRIPTION:Gender identity peer support and discussion for anyone wanting to connect with others who are trans and gender diverse\, or questioning their gender identity. \n\n\n\nHeld on the 2nd Wednesday of each month from 5:30-7:00 pm. \n\n\n\nIf you would like more information or would like to RSVP\, please contact Garry by email or phone (0455 031 262 / garry@workingitout.org.au) \n\n\n\nThis group is intended for those people 18 years old and over. If you are under 18\, we have another group that is all inclusive called OUTSpace also held in Burnie and Devonport each month. \n\n\n\n*****************************************
URL:https://www.workingitout.org.au/event/gender-group-burnie/2025-04-09/
LOCATION:Working It Out Burnie\, 29 Wilson Street\, Burnie\, TAS\, 7320
ATTACH;FMTTYPE=image/png:https://www.workingitout.org.au/wp-content/uploads/2024/05/FB-Event-Copy-of-Gender-Group-NW-2.png
END:VEVENT
BEGIN:VEVENT
DTSTART;TZID=UTC:20250410T160000
DTEND;TZID=UTC:20250410T173000
DTSTAMP:20260419T155635
CREATED:20250617T044229Z
LAST-MODIFIED:20251020T012307Z
UID:10007358-1744300800-1744306200@www.workingitout.org.au
SUMMARY:OUTspace Devonport (Ages:13-18)
DESCRIPTION:OUTspace is a social and peer support group for LGBTIQA+ young people (ages 13 – 18)\, and for young people who are not sure about their gender and/or sexuality. It’s an opportunity to meet\, hang out and learn from your community. \n\n\n\nOUTspace is a confidential group\, which means we can’t tell anyone that you’ve come to OUTspace without your permission. This also means that we don’t ‘out’ each other in public. \n\n\n\nWhat happens at OUTspace?• Introduce ourselves and our pronouns• Make a group agreement so we feel safe to participate• Hear about and discuss LGBTIQA+ news\, events and culture• Share experiences and ask questions of each other• Socialising activities (boardgames / card games / video games)• Occasional special events\, such as movie screenings \n\n\n\nOUTspace Devonport is facilitated at the Devonport Library\, upstairs at the Paranaple Centre\, 137 Rooke Street\, Devonport TAS 7310 \n\n\n\nContact Garry at Garry@workingitout.org.au for more information. \n\n\n\n\n\n\n\n\n\n\n\nBack to News/Events
URL:https://www.workingitout.org.au/event/outspace-devonport-ages13-18-2/2025-04-10/
LOCATION:YFCC 62 Stewart Street Devonport TAS 7310\, 62 Stewart Street\, Devonport\, 7310\, Australia
ATTACH;FMTTYPE=image/jpeg:https://www.workingitout.org.au/wp-content/uploads/2024/08/OUTspace-Devonport-2025.jpg
END:VEVENT
END:VCALENDAR