BEGIN:VCALENDAR
VERSION:2.0
PRODID:-//Working It Out Inc. - ECPv6.15.20//NONSGML v1.0//EN
CALSCALE:GREGORIAN
METHOD:PUBLISH
X-WR-CALNAME:Working It Out Inc.
X-ORIGINAL-URL:https://www.workingitout.org.au
X-WR-CALDESC:Events for Working It Out Inc.
REFRESH-INTERVAL;VALUE=DURATION:PT1H
X-Robots-Tag:noindex
X-PUBLISHED-TTL:PT1H
BEGIN:VTIMEZONE
TZID:UTC
BEGIN:STANDARD
TZOFFSETFROM:+0000
TZOFFSETTO:+0000
TZNAME:UTC
DTSTART:20240101T000000
END:STANDARD
END:VTIMEZONE
BEGIN:VTIMEZONE
TZID:Australia/Hobart
BEGIN:STANDARD
TZOFFSETFROM:+1100
TZOFFSETTO:+1000
TZNAME:AEST
DTSTART:20240406T160000
END:STANDARD
BEGIN:DAYLIGHT
TZOFFSETFROM:+1000
TZOFFSETTO:+1100
TZNAME:AEDT
DTSTART:20241005T160000
END:DAYLIGHT
BEGIN:STANDARD
TZOFFSETFROM:+1100
TZOFFSETTO:+1000
TZNAME:AEST
DTSTART:20250405T160000
END:STANDARD
BEGIN:DAYLIGHT
TZOFFSETFROM:+1000
TZOFFSETTO:+1100
TZNAME:AEDT
DTSTART:20251004T160000
END:DAYLIGHT
BEGIN:STANDARD
TZOFFSETFROM:+1100
TZOFFSETTO:+1000
TZNAME:AEST
DTSTART:20260404T160000
END:STANDARD
BEGIN:DAYLIGHT
TZOFFSETFROM:+1000
TZOFFSETTO:+1100
TZNAME:AEDT
DTSTART:20261003T160000
END:DAYLIGHT
END:VTIMEZONE
BEGIN:VEVENT
DTSTART;TZID=UTC:20251110T103000
DTEND;TZID=UTC:20251110T113000
DTSTAMP:20260425T035847
CREATED:20250529T050853Z
LAST-MODIFIED:20250529T050857Z
UID:10004049-1762770600-1762774200@www.workingitout.org.au
SUMMARY:Pride Coffee - Burnie
DESCRIPTION:Pride Coffee is a new monthly catch-up for the LGBTIAQ+ community\, friends and allies. Held at Cafe Europa in Burnie on the 2nd Monday of every monthPlease RSVP to garry@workingitout.org.au so we can ensure enough space for us! Hope to see you there!
URL:https://www.workingitout.org.au/event/pride-coffee-burnie-4/2025-11-10/
LOCATION:Cafe Europa\, 1/23 Cattley Street\, Burnie\, TAS\, 7250\, Australia
ATTACH;FMTTYPE=image/jpeg:https://www.workingitout.org.au/wp-content/uploads/2023/07/Burnie-Pride-Coffee-scaled.jpg
END:VEVENT
BEGIN:VEVENT
DTSTART;TZID=Australia/Hobart:20251110T160000
DTEND;TZID=Australia/Hobart:20251110T173000
DTSTAMP:20260425T035848
CREATED:20250617T013954Z
LAST-MODIFIED:20251029T233104Z
UID:10007194-1762790400-1762795800@www.workingitout.org.au
SUMMARY:OUTspace Burnie (Ages 13-18)
DESCRIPTION:OUTspace is a peer support group for Lesbian\, Gay\, Bisexual\, Transgender\, Intersex and Queer+ (LGBTIQ+) young people\, and for young people who are not sure about their gender and/or sexuality. It’s an opportunity to meet\, hangout and learn from your community.\n \nOUTspace is a confidential group\, which means we can’t tell anyone that you’ve come to OUTspace without your permission. This also means that we don’t ‘out’ each other in public.\n \nWhat happens at OUTspace?\n\nIntroduce ourselves and our pronouns\nMake a group agreement so we can feel safer to participate\nHear about LGBTIQ+ news\, events and culture\nShare experiences and ask questions of each other\nGroup activities and games including theatre sports\, arts and crafts\nSpecial events and movie screenings\n\nIn Burnie the group will be facilitated by Garry from Working It Out\, will be meeting at the WIO office @ 29 Wilson St\, Burnie every fortnight\, 4-5:30pm \n~~~~~~~~\nPlease contact Garry in the NW for further information at Garry@workingitout.org.au or 0455 031 262.Check the Working It Out Facebook Page for details or contact WIO for more details at info@workingitout.org.au \nNote that this venue has level access and there are accessible toilets just outside the building. \n\n\n\n\n \n\n \n\n\n 
URL:https://www.workingitout.org.au/event/outspace-burnie-ages-13-18-2/2025-11-10/
LOCATION:WIO Burnie\, 29 Wilson Street\, Burnie\, Tasmania\, 7320\, Australia
CATEGORIES:WIO peer support group
ATTACH;FMTTYPE=image/jpeg:https://www.workingitout.org.au/wp-content/uploads/2024/06/OUTspace-Burnie-25.jpg
END:VEVENT
BEGIN:VEVENT
DTSTART;TZID=UTC:20251111T043000
DTEND;TZID=UTC:20251111T053000
DTSTAMP:20260425T035848
CREATED:20241126T001542Z
LAST-MODIFIED:20250529T041606Z
UID:10006747-1762835400-1762839000@www.workingitout.org.au
SUMMARY:LGBTIQA+ Carers' Support Group (Online)
DESCRIPTION:Our LGBTIQA+ Carers’ Support Group meets online from 4:30 p.m. to 5:30 p.m. on the second Tuesday of each month to provide support and connection in a safe and confidential space. Anyone from the rainbow community who is in a caring role is welcome to attend. For the meeting link and for more info mail: garry@workingitout.org.au 0455 031 262
URL:https://www.workingitout.org.au/event/lgbtiqa-carers-support-group-online-2/2025-11-11/
LOCATION:Tasmania
END:VEVENT
BEGIN:VEVENT
DTSTART;TZID=UTC:20251112T103000
DTEND;TZID=UTC:20251112T113000
DTSTAMP:20260425T035848
CREATED:20251029T225822Z
LAST-MODIFIED:20251029T225826Z
UID:10006482-1762943400-1762947000@www.workingitout.org.au
SUMMARY:Pride Coffee - Launceston
DESCRIPTION:Pride Coffee is a monthly catch-up for the LGBTIQA+ community\, friends and allies. Held at Sweet Brew Coffee House  in Launceston on the 2nd Wednesday of every month at 11:00 am. For any enquiries please contact: joseph@workingitout.org.au Hope to See you there!
URL:https://www.workingitout.org.au/event/pride-coffee-launceston/2025-11-12/
LOCATION:Earthy Eats\, 19 Kingsway\, Launceston\, TAS\, 7250\, Australia
ATTACH;FMTTYPE=image/jpeg:https://www.workingitout.org.au/wp-content/uploads/2025/05/Launceston-Pride-Coffee-Jo-1.jpg
END:VEVENT
BEGIN:VEVENT
DTSTART;TZID=UTC:20251112T173000
DTEND;TZID=UTC:20251112T190000
DTSTAMP:20260425T035848
CREATED:20240506T014157Z
LAST-MODIFIED:20241017T023726Z
UID:10002783-1762968600-1762974000@www.workingitout.org.au
SUMMARY:Gender Group - Burnie
DESCRIPTION:Gender identity peer support and discussion for anyone wanting to connect with others who are trans and gender diverse\, or questioning their gender identity. \n\n\n\nHeld on the 2nd Wednesday of each month from 5:30-7:00 pm. \n\n\n\nIf you would like more information or would like to RSVP\, please contact Garry by email or phone (0455 031 262 / garry@workingitout.org.au) \n\n\n\nThis group is intended for those people 18 years old and over. If you are under 18\, we have another group that is all inclusive called OUTSpace also held in Burnie and Devonport each month. \n\n\n\n*****************************************
URL:https://www.workingitout.org.au/event/gender-group-burnie/2025-11-12/
LOCATION:Working It Out Burnie\, 29 Wilson Street\, Burnie\, TAS\, 7320
ATTACH;FMTTYPE=image/png:https://www.workingitout.org.au/wp-content/uploads/2024/05/FB-Event-Copy-of-Gender-Group-NW-2.png
END:VEVENT
BEGIN:VEVENT
DTSTART;TZID=UTC:20251113T103000
DTEND;TZID=UTC:20251113T103000
DTSTAMP:20260425T035848
CREATED:20250529T063039Z
LAST-MODIFIED:20250529T063042Z
UID:10007070-1763029800-1763029800@www.workingitout.org.au
SUMMARY:Pride Coffee - Devonport
DESCRIPTION:A monthly catch-up for the LGBTIQA+ community\, friends and allies. 10:30 – 11:30am at the Laneway Cafe\, 38 Steele Street\, Devonport every 2nd Thursday of the month. RSVP garry@workingitout.org.au
URL:https://www.workingitout.org.au/event/pride-coffee-devonport/2025-11-13/
LOCATION:The Laneway\, 2/38 Steele Street\, Devonport\, TAS\, 7250\, Australia
END:VEVENT
BEGIN:VEVENT
DTSTART;TZID=UTC:20251115T160000
DTEND;TZID=UTC:20251115T220000
DTSTAMP:20260425T035848
CREATED:20250930T233524Z
LAST-MODIFIED:20250930T233526Z
UID:10007856-1763222400-1763244000@www.workingitout.org.au
SUMMARY:New NorFUNK 8
DESCRIPTION:Drag\, Burlesque\, Pole Dancing and Music in a gorgeous indoor beer garden called the Welcome Swallow Brewery  \n\n\n\nNew NorFUNK 8 is a fundraiser for TasPride’s Artfully Queer Exhibition and Arts Program \n\n\n\n\n\n\n\nWould you choose a unique entertainment experience in the valley of love\, or just another night out in the CBD? \n\n\n\nRide the Rainbow Bus to New Norfolk’s inclusive indoor garden and brewery\, The Welcome Swallow\, for the legendary biannual New NorFUNK queer variety show and TasPride fundraiser. \n\n\n\n Sip Derwent Valley ciders\, Welcome Swallow beers\, and local wine. Eat delicious food from the food truck while you soak up Tasmanian queer culture\, as you and your friends watch over twelve ridiculously talented drag\, burlesque\, and pole performers. Expect to titter\, to be teased\, titillated and thoroughly transfixed. \n\n\n\nWhen the shows are over\, the Rainbow Bus will then return you and your crew safely back to Hobart. \n\n\n\nOr you can be master of your own destiny\, and hero to your friends as a designated driver as you drive yourself and your crew along the picturesque Lyle Highway to 99 Ring Rd\, New Norfolk. \n\n\n\nNew NorFUNK is a celebration of contemporary Tasmanian LGBTIQA+ performance culture. All New NorFUNK performers are locally sourced and produced from the finest ingredients. Each unique performer has been hand picked by the Back Door Boyz (the Welcome Swallow’s resident Drag Kings). You can even get your face painted by the Derwent Valley Fairy and look even more fabulous for your friends. \n\n\n\nAs a bonus\, you can pat yourself on the back for helping support Tasmanian LGBTIQA+ creatives. Because New NorFUNK also raises money for TasPride’s Artfully Queer Exhibition & Arts Program. \n\n\n\nhttps://www.facebook.com/share/16dg8JZvKt \n\n\n\nhttps://events.humanitix.com/newnorfunk8
URL:https://www.workingitout.org.au/event/new-norfunk-8/
LOCATION:Welcome Swallow Brewery\, 99 Ring Road\, New Norfolk\, Tasmania\, Australia
ATTACH;FMTTYPE=image/png:https://www.workingitout.org.au/wp-content/uploads/2025/09/Language-Matters-Flyer-Facebook-FINAL-1.png
END:VEVENT
END:VCALENDAR