BEGIN:VCALENDAR
VERSION:2.0
PRODID:-//Working It Out Inc. - ECPv6.15.20//NONSGML v1.0//EN
CALSCALE:GREGORIAN
METHOD:PUBLISH
X-WR-CALNAME:Working It Out Inc.
X-ORIGINAL-URL:https://www.workingitout.org.au
X-WR-CALDESC:Events for Working It Out Inc.
REFRESH-INTERVAL;VALUE=DURATION:PT1H
X-Robots-Tag:noindex
X-PUBLISHED-TTL:PT1H
BEGIN:VTIMEZONE
TZID:Australia/Hobart
BEGIN:STANDARD
TZOFFSETFROM:+1100
TZOFFSETTO:+1000
TZNAME:AEST
DTSTART:20240406T160000
END:STANDARD
BEGIN:DAYLIGHT
TZOFFSETFROM:+1000
TZOFFSETTO:+1100
TZNAME:AEDT
DTSTART:20241005T160000
END:DAYLIGHT
BEGIN:STANDARD
TZOFFSETFROM:+1100
TZOFFSETTO:+1000
TZNAME:AEST
DTSTART:20250405T160000
END:STANDARD
BEGIN:DAYLIGHT
TZOFFSETFROM:+1000
TZOFFSETTO:+1100
TZNAME:AEDT
DTSTART:20251004T160000
END:DAYLIGHT
BEGIN:STANDARD
TZOFFSETFROM:+1100
TZOFFSETTO:+1000
TZNAME:AEST
DTSTART:20260404T160000
END:STANDARD
BEGIN:DAYLIGHT
TZOFFSETFROM:+1000
TZOFFSETTO:+1100
TZNAME:AEDT
DTSTART:20261003T160000
END:DAYLIGHT
END:VTIMEZONE
BEGIN:VTIMEZONE
TZID:UTC
BEGIN:STANDARD
TZOFFSETFROM:+0000
TZOFFSETTO:+0000
TZNAME:UTC
DTSTART:20240101T000000
END:STANDARD
END:VTIMEZONE
BEGIN:VEVENT
DTSTART;TZID=Australia/Hobart:20251124T160000
DTEND;TZID=Australia/Hobart:20251124T173000
DTSTAMP:20260424T220203
CREATED:20250617T013954Z
LAST-MODIFIED:20251029T233104Z
UID:10007195-1764000000-1764005400@www.workingitout.org.au
SUMMARY:OUTspace Burnie (Ages 13-18)
DESCRIPTION:OUTspace is a peer support group for Lesbian\, Gay\, Bisexual\, Transgender\, Intersex and Queer+ (LGBTIQ+) young people\, and for young people who are not sure about their gender and/or sexuality. It’s an opportunity to meet\, hangout and learn from your community.\n \nOUTspace is a confidential group\, which means we can’t tell anyone that you’ve come to OUTspace without your permission. This also means that we don’t ‘out’ each other in public.\n \nWhat happens at OUTspace?\n\nIntroduce ourselves and our pronouns\nMake a group agreement so we can feel safer to participate\nHear about LGBTIQ+ news\, events and culture\nShare experiences and ask questions of each other\nGroup activities and games including theatre sports\, arts and crafts\nSpecial events and movie screenings\n\nIn Burnie the group will be facilitated by Garry from Working It Out\, will be meeting at the WIO office @ 29 Wilson St\, Burnie every fortnight\, 4-5:30pm \n~~~~~~~~\nPlease contact Garry in the NW for further information at Garry@workingitout.org.au or 0455 031 262.Check the Working It Out Facebook Page for details or contact WIO for more details at info@workingitout.org.au \nNote that this venue has level access and there are accessible toilets just outside the building. \n\n\n\n\n \n\n \n\n\n 
URL:https://www.workingitout.org.au/event/outspace-burnie-ages-13-18-2/2025-11-24/
LOCATION:WIO Burnie\, 29 Wilson Street\, Burnie\, Tasmania\, 7320\, Australia
CATEGORIES:WIO peer support group
ATTACH;FMTTYPE=image/jpeg:https://www.workingitout.org.au/wp-content/uploads/2024/06/OUTspace-Burnie-25.jpg
END:VEVENT
BEGIN:VEVENT
DTSTART;TZID=UTC:20251125T103000
DTEND;TZID=UTC:20251125T113000
DTSTAMP:20260424T220203
CREATED:20250922T010718Z
LAST-MODIFIED:20250922T014301Z
UID:10007797-1764066600-1764070200@www.workingitout.org.au
SUMMARY:Pride Coffee - Ulverstone
DESCRIPTION:Pride Coffee is a monthly catch-up for the LGBTIQA+ community\, friends and allies. Held at McCarthy’s Bread Lounge in  Ulverstone on the 4th Tuesday of every month at 10:30am.Facebook Event Link: https://www.facebook.com/share/17474XjoXL \n\n\n\n\n\n\n\nPlease RSVP to garry@workingitout.org.au so we can ensure enough space for us! \n\n\n\nHope to see you there!
URL:https://www.workingitout.org.au/event/pride-coffee-ulverstone-2/2025-11-25/
LOCATION:McCarthy’s Bread Lounge\, Ulverstone\, 39 riebey street\, Ulverstone\, Tasmania\, Australia
ATTACH;FMTTYPE=image/jpeg:https://www.workingitout.org.au/wp-content/uploads/2025/05/UlverstonePrideCoffee.jpg
END:VEVENT
BEGIN:VEVENT
DTSTART;TZID=UTC:20251127T173000
DTEND;TZID=UTC:20251127T190000
DTSTAMP:20260424T220203
CREATED:20250204T022345Z
LAST-MODIFIED:20250204T022511Z
UID:10002843-1764264600-1764270000@www.workingitout.org.au
SUMMARY:Gender Group - Devonport
DESCRIPTION:Gender identity peer support and discussion for anyone wanting to connect with others who are trans and gender diverse\, or questioning their gender identity. \n\n\n\nHeld in Devonport at the Devonport Library (Upstairs\, just look for the pride flags) from 5:30-7:00 pm on the 4th Thursday of each month. \n\n\n\nIf you would like more information or would like to RSVP\, please contact Garry by email or phone (0455 031 262 / garry@workingitout.org.au) \n\n\n\nThis group is intended for those people 18 years old and over. If you are under 18\, we have another group that is all-inclusive called OUTSpace also held in Burnie and Devonport each month. \n\n\n\n*****************************************
URL:https://www.workingitout.org.au/event/gender-group-devonport-2/2025-11-27/
LOCATION:Devonport Library\, 137 Rooke Street\, Devonport\, TAS\, 7310\, Australia
ATTACH;FMTTYPE=image/png:https://www.workingitout.org.au/wp-content/uploads/2024/05/Copy-of-FB-Event-Gender-Group-NW-Devonport-1.png
END:VEVENT
BEGIN:VEVENT
DTSTART;TZID=UTC:20251128T173000
DTEND;TZID=UTC:20251128T200000
DTSTAMP:20260424T220203
CREATED:20251113T070728Z
LAST-MODIFIED:20251218T012338Z
UID:10008114-1764351000-1764360000@www.workingitout.org.au
SUMMARY:Out In The Garden
DESCRIPTION:Out in the Garden \n\n\n\nJoin Out In The Garden\, a relaxed LGBTIQA+ garden group where you can unwind\, connect\, and grow community\, not hangovers. \n\n\n\nFridays\, 5:30 – 8 pm | December 2025 – March 2026 \n\n\n\nWest Moonah Community Garden\, Corner of Winbourne Road and Springfield Ave\, West Moonah \n\n\n\nAlcohol\, drug\, smoke/vape free.  18+ only. \n\n\n\nfor more information click here \n\n\n\nRegistrations are appreciated but not essential. To let us know you’re planning on coming\, please email Bethany@workingitout.org.au \n\n\n\nWIO is delighted to partner with West Moonah Neighbourhood House and CTST to deliver this program\, which is supported by our partners the Alcohol and Drug Foundation (ADF). \n\n\n\nIf you or your business would also like to sponsor this program or make a donation\, please contact Bethany@workingitout.org.au
URL:https://www.workingitout.org.au/event/out-in-the-garden/2025-11-28/
LOCATION:west moonah community garden
ATTACH;FMTTYPE=image/png:https://www.workingitout.org.au/wp-content/uploads/2025/11/Out-in-the-garden-Logo-tile.png
END:VEVENT
BEGIN:VEVENT
DTSTART;TZID=UTC:20251129T160000
DTEND;TZID=UTC:20251129T180000
DTSTAMP:20260424T220203
CREATED:20241014T021304Z
LAST-MODIFIED:20241014T021307Z
UID:10002579-1764432000-1764439200@www.workingitout.org.au
SUMMARY:Out Together- Multicultural LGBTIQA+ Group
DESCRIPTION:WIO is\n\n\n\nInviting you all to join our Multicultural LGBTQIA+ group\n\n\n\nWhat do you get –\n\n\n\nFriendships\n\n\n\nSafe space\n\n\n\nSupport group\n\n\n\nSocial events\n\n\n\nSafety & ConfidentialityLast Saturday of every Month4-6 pm onwards\, North HobartEmail: info@workingitout.org.au or outtogethergroup@gmail.comPhone:0451119711\, 0433810164 03 62311200Email us\, call us\, text us or directly
URL:https://www.workingitout.org.au/event/out-together-multicultural-lgbtiqa-group-3/2025-11-29/
LOCATION:Working it Out Inc\, 278\, North Hobart\, TAS\, 7000
ATTACH;FMTTYPE=image/jpeg:https://www.workingitout.org.au/wp-content/uploads/2024/04/Out-Together-.jpg
END:VEVENT
END:VCALENDAR