BEGIN:VCALENDAR
VERSION:2.0
PRODID:-//Working It Out Inc. - ECPv6.15.20//NONSGML v1.0//EN
CALSCALE:GREGORIAN
METHOD:PUBLISH
X-WR-CALNAME:Working It Out Inc.
X-ORIGINAL-URL:https://www.workingitout.org.au
X-WR-CALDESC:Events for Working It Out Inc.
REFRESH-INTERVAL;VALUE=DURATION:PT1H
X-Robots-Tag:noindex
X-PUBLISHED-TTL:PT1H
BEGIN:VTIMEZONE
TZID:UTC
BEGIN:STANDARD
TZOFFSETFROM:+0000
TZOFFSETTO:+0000
TZNAME:UTC
DTSTART:20240101T000000
END:STANDARD
END:VTIMEZONE
BEGIN:VTIMEZONE
TZID:Australia/Hobart
BEGIN:STANDARD
TZOFFSETFROM:+1100
TZOFFSETTO:+1000
TZNAME:AEST
DTSTART:20240406T160000
END:STANDARD
BEGIN:DAYLIGHT
TZOFFSETFROM:+1000
TZOFFSETTO:+1100
TZNAME:AEDT
DTSTART:20241005T160000
END:DAYLIGHT
BEGIN:STANDARD
TZOFFSETFROM:+1100
TZOFFSETTO:+1000
TZNAME:AEST
DTSTART:20250405T160000
END:STANDARD
BEGIN:DAYLIGHT
TZOFFSETFROM:+1000
TZOFFSETTO:+1100
TZNAME:AEDT
DTSTART:20251004T160000
END:DAYLIGHT
BEGIN:STANDARD
TZOFFSETFROM:+1100
TZOFFSETTO:+1000
TZNAME:AEST
DTSTART:20260404T160000
END:STANDARD
BEGIN:DAYLIGHT
TZOFFSETFROM:+1000
TZOFFSETTO:+1100
TZNAME:AEDT
DTSTART:20261003T160000
END:DAYLIGHT
END:VTIMEZONE
BEGIN:VEVENT
DTSTART;TZID=UTC:20251208T103000
DTEND;TZID=UTC:20251208T113000
DTSTAMP:20260424T220203
CREATED:20250529T050853Z
LAST-MODIFIED:20250529T050857Z
UID:10004050-1765189800-1765193400@www.workingitout.org.au
SUMMARY:Pride Coffee - Burnie
DESCRIPTION:Pride Coffee is a new monthly catch-up for the LGBTIAQ+ community\, friends and allies. Held at Cafe Europa in Burnie on the 2nd Monday of every monthPlease RSVP to garry@workingitout.org.au so we can ensure enough space for us! Hope to see you there!
URL:https://www.workingitout.org.au/event/pride-coffee-burnie-4/2025-12-08/
LOCATION:Cafe Europa\, 1/23 Cattley Street\, Burnie\, TAS\, 7250\, Australia
ATTACH;FMTTYPE=image/jpeg:https://www.workingitout.org.au/wp-content/uploads/2023/07/Burnie-Pride-Coffee-scaled.jpg
END:VEVENT
BEGIN:VEVENT
DTSTART;TZID=Australia/Hobart:20251208T160000
DTEND;TZID=Australia/Hobart:20251208T173000
DTSTAMP:20260424T220203
CREATED:20250617T013954Z
LAST-MODIFIED:20251029T233104Z
UID:10007196-1765209600-1765215000@www.workingitout.org.au
SUMMARY:OUTspace Burnie (Ages 13-18)
DESCRIPTION:OUTspace is a peer support group for Lesbian\, Gay\, Bisexual\, Transgender\, Intersex and Queer+ (LGBTIQ+) young people\, and for young people who are not sure about their gender and/or sexuality. It’s an opportunity to meet\, hangout and learn from your community.\n \nOUTspace is a confidential group\, which means we can’t tell anyone that you’ve come to OUTspace without your permission. This also means that we don’t ‘out’ each other in public.\n \nWhat happens at OUTspace?\n\nIntroduce ourselves and our pronouns\nMake a group agreement so we can feel safer to participate\nHear about LGBTIQ+ news\, events and culture\nShare experiences and ask questions of each other\nGroup activities and games including theatre sports\, arts and crafts\nSpecial events and movie screenings\n\nIn Burnie the group will be facilitated by Garry from Working It Out\, will be meeting at the WIO office @ 29 Wilson St\, Burnie every fortnight\, 4-5:30pm \n~~~~~~~~\nPlease contact Garry in the NW for further information at Garry@workingitout.org.au or 0455 031 262.Check the Working It Out Facebook Page for details or contact WIO for more details at info@workingitout.org.au \nNote that this venue has level access and there are accessible toilets just outside the building. \n\n\n\n\n \n\n \n\n\n 
URL:https://www.workingitout.org.au/event/outspace-burnie-ages-13-18-2/2025-12-08/
LOCATION:WIO Burnie\, 29 Wilson Street\, Burnie\, Tasmania\, 7320\, Australia
CATEGORIES:WIO peer support group
ATTACH;FMTTYPE=image/jpeg:https://www.workingitout.org.au/wp-content/uploads/2024/06/OUTspace-Burnie-25.jpg
END:VEVENT
BEGIN:VEVENT
DTSTART;TZID=UTC:20251209T043000
DTEND;TZID=UTC:20251209T053000
DTSTAMP:20260424T220203
CREATED:20241126T001542Z
LAST-MODIFIED:20250529T041606Z
UID:10006748-1765254600-1765258200@www.workingitout.org.au
SUMMARY:LGBTIQA+ Carers' Support Group (Online)
DESCRIPTION:Our LGBTIQA+ Carers’ Support Group meets online from 4:30 p.m. to 5:30 p.m. on the second Tuesday of each month to provide support and connection in a safe and confidential space. Anyone from the rainbow community who is in a caring role is welcome to attend. For the meeting link and for more info mail: garry@workingitout.org.au 0455 031 262
URL:https://www.workingitout.org.au/event/lgbtiqa-carers-support-group-online-2/2025-12-09/
LOCATION:Tasmania
END:VEVENT
BEGIN:VEVENT
DTSTART;TZID=UTC:20251210T103000
DTEND;TZID=UTC:20251210T113000
DTSTAMP:20260424T220203
CREATED:20251029T225822Z
LAST-MODIFIED:20251029T225826Z
UID:10006483-1765362600-1765366200@www.workingitout.org.au
SUMMARY:Pride Coffee - Launceston
DESCRIPTION:Pride Coffee is a monthly catch-up for the LGBTIQA+ community\, friends and allies. Held at Sweet Brew Coffee House  in Launceston on the 2nd Wednesday of every month at 11:00 am. For any enquiries please contact: joseph@workingitout.org.au Hope to See you there!
URL:https://www.workingitout.org.au/event/pride-coffee-launceston/2025-12-10/
LOCATION:Earthy Eats\, 19 Kingsway\, Launceston\, TAS\, 7250\, Australia
ATTACH;FMTTYPE=image/jpeg:https://www.workingitout.org.au/wp-content/uploads/2025/05/Launceston-Pride-Coffee-Jo-1.jpg
END:VEVENT
BEGIN:VEVENT
DTSTART;TZID=UTC:20251210T173000
DTEND;TZID=UTC:20251210T190000
DTSTAMP:20260424T220203
CREATED:20240506T014157Z
LAST-MODIFIED:20241017T023726Z
UID:10002784-1765387800-1765393200@www.workingitout.org.au
SUMMARY:Gender Group - Burnie
DESCRIPTION:Gender identity peer support and discussion for anyone wanting to connect with others who are trans and gender diverse\, or questioning their gender identity. \n\n\n\nHeld on the 2nd Wednesday of each month from 5:30-7:00 pm. \n\n\n\nIf you would like more information or would like to RSVP\, please contact Garry by email or phone (0455 031 262 / garry@workingitout.org.au) \n\n\n\nThis group is intended for those people 18 years old and over. If you are under 18\, we have another group that is all inclusive called OUTSpace also held in Burnie and Devonport each month. \n\n\n\n*****************************************
URL:https://www.workingitout.org.au/event/gender-group-burnie/2025-12-10/
LOCATION:Working It Out Burnie\, 29 Wilson Street\, Burnie\, TAS\, 7320
ATTACH;FMTTYPE=image/png:https://www.workingitout.org.au/wp-content/uploads/2024/05/FB-Event-Copy-of-Gender-Group-NW-2.png
END:VEVENT
BEGIN:VEVENT
DTSTART;TZID=UTC:20251211T103000
DTEND;TZID=UTC:20251211T103000
DTSTAMP:20260424T220203
CREATED:20250529T063039Z
LAST-MODIFIED:20250529T063042Z
UID:10007071-1765449000-1765449000@www.workingitout.org.au
SUMMARY:Pride Coffee - Devonport
DESCRIPTION:A monthly catch-up for the LGBTIQA+ community\, friends and allies. 10:30 – 11:30am at the Laneway Cafe\, 38 Steele Street\, Devonport every 2nd Thursday of the month. RSVP garry@workingitout.org.au
URL:https://www.workingitout.org.au/event/pride-coffee-devonport/2025-12-11/
LOCATION:The Laneway\, 2/38 Steele Street\, Devonport\, TAS\, 7250\, Australia
END:VEVENT
BEGIN:VEVENT
DTSTART;TZID=UTC:20251212T173000
DTEND;TZID=UTC:20251212T200000
DTSTAMP:20260424T220203
CREATED:20251113T070728Z
LAST-MODIFIED:20251218T012338Z
UID:10008116-1765560600-1765569600@www.workingitout.org.au
SUMMARY:Out In The Garden
DESCRIPTION:Out in the Garden \n\n\n\nJoin Out In The Garden\, a relaxed LGBTIQA+ garden group where you can unwind\, connect\, and grow community\, not hangovers. \n\n\n\nFridays\, 5:30 – 8 pm | December 2025 – March 2026 \n\n\n\nWest Moonah Community Garden\, Corner of Winbourne Road and Springfield Ave\, West Moonah \n\n\n\nAlcohol\, drug\, smoke/vape free.  18+ only. \n\n\n\nfor more information click here \n\n\n\nRegistrations are appreciated but not essential. To let us know you’re planning on coming\, please email Bethany@workingitout.org.au \n\n\n\nWIO is delighted to partner with West Moonah Neighbourhood House and CTST to deliver this program\, which is supported by our partners the Alcohol and Drug Foundation (ADF). \n\n\n\nIf you or your business would also like to sponsor this program or make a donation\, please contact Bethany@workingitout.org.au
URL:https://www.workingitout.org.au/event/out-in-the-garden/2025-12-12/
LOCATION:west moonah community garden
ATTACH;FMTTYPE=image/png:https://www.workingitout.org.au/wp-content/uploads/2025/11/Out-in-the-garden-Logo-tile.png
END:VEVENT
BEGIN:VEVENT
DTSTART;TZID=UTC:20251214T170000
DTEND;TZID=UTC:20251214T200000
DTSTAMP:20260424T220203
CREATED:20251209T032915Z
LAST-MODIFIED:20251209T034100Z
UID:10008316-1765731600-1765742400@www.workingitout.org.au
SUMMARY:Cruise Nipaluna End Of Year Pizza Party
DESCRIPTION:Join Cruise Nipaluna in celebrating their first year together with a skate and a slice! \n\n\n\nWhat: End of Year Pizza Party \n\n\n\nWhere: EC Skatepark\, North Hobart \n\n\n\nWhen: 5-8pm\, Sun 14 December \n\n\n\nWho: Anyone! All ages\, wheels\, identities and abilities are welcome \n\n\n\nCost: Small donations (e.g. $5-$10pp) to help with pizza are much appreciated\, but don’t worry – no one will be turned away for lack of “dough”!
URL:https://www.workingitout.org.au/event/cruise-nipaluna-end-of-year-pizza-party/
LOCATION:Tasmania
ATTACH;FMTTYPE=image/jpeg:https://www.workingitout.org.au/wp-content/uploads/2025/12/CruiseNipPizzaParty.jpg
END:VEVENT
END:VCALENDAR