BEGIN:VCALENDAR
VERSION:2.0
PRODID:-//Working It Out Inc. - ECPv6.15.20//NONSGML v1.0//EN
CALSCALE:GREGORIAN
METHOD:PUBLISH
X-WR-CALNAME:Working It Out Inc.
X-ORIGINAL-URL:https://www.workingitout.org.au
X-WR-CALDESC:Events for Working It Out Inc.
REFRESH-INTERVAL;VALUE=DURATION:PT1H
X-Robots-Tag:noindex
X-PUBLISHED-TTL:PT1H
BEGIN:VTIMEZONE
TZID:Australia/Hobart
BEGIN:STANDARD
TZOFFSETFROM:+1100
TZOFFSETTO:+1000
TZNAME:AEST
DTSTART:20250405T160000
END:STANDARD
BEGIN:DAYLIGHT
TZOFFSETFROM:+1000
TZOFFSETTO:+1100
TZNAME:AEDT
DTSTART:20251004T160000
END:DAYLIGHT
BEGIN:STANDARD
TZOFFSETFROM:+1100
TZOFFSETTO:+1000
TZNAME:AEST
DTSTART:20260404T160000
END:STANDARD
BEGIN:DAYLIGHT
TZOFFSETFROM:+1000
TZOFFSETTO:+1100
TZNAME:AEDT
DTSTART:20261003T160000
END:DAYLIGHT
BEGIN:STANDARD
TZOFFSETFROM:+1100
TZOFFSETTO:+1000
TZNAME:AEST
DTSTART:20270403T160000
END:STANDARD
BEGIN:DAYLIGHT
TZOFFSETFROM:+1000
TZOFFSETTO:+1100
TZNAME:AEDT
DTSTART:20271002T160000
END:DAYLIGHT
END:VTIMEZONE
BEGIN:VTIMEZONE
TZID:UTC
BEGIN:STANDARD
TZOFFSETFROM:+0000
TZOFFSETTO:+0000
TZNAME:UTC
DTSTART:20250101T000000
END:STANDARD
END:VTIMEZONE
BEGIN:VEVENT
DTSTART;TZID=Australia/Hobart:20260202T160000
DTEND;TZID=Australia/Hobart:20260202T173000
DTSTAMP:20260419T173415
CREATED:20250617T013954Z
LAST-MODIFIED:20251029T233104Z
UID:10007200-1770048000-1770053400@www.workingitout.org.au
SUMMARY:OUTspace Burnie (Ages 13-18)
DESCRIPTION:OUTspace is a peer support group for Lesbian\, Gay\, Bisexual\, Transgender\, Intersex and Queer+ (LGBTIQ+) young people\, and for young people who are not sure about their gender and/or sexuality. It’s an opportunity to meet\, hangout and learn from your community.\n \nOUTspace is a confidential group\, which means we can’t tell anyone that you’ve come to OUTspace without your permission. This also means that we don’t ‘out’ each other in public.\n \nWhat happens at OUTspace?\n\nIntroduce ourselves and our pronouns\nMake a group agreement so we can feel safer to participate\nHear about LGBTIQ+ news\, events and culture\nShare experiences and ask questions of each other\nGroup activities and games including theatre sports\, arts and crafts\nSpecial events and movie screenings\n\nIn Burnie the group will be facilitated by Garry from Working It Out\, will be meeting at the WIO office @ 29 Wilson St\, Burnie every fortnight\, 4-5:30pm \n~~~~~~~~\nPlease contact Garry in the NW for further information at Garry@workingitout.org.au or 0455 031 262.Check the Working It Out Facebook Page for details or contact WIO for more details at info@workingitout.org.au \nNote that this venue has level access and there are accessible toilets just outside the building. \n\n\n\n\n \n\n \n\n\n 
URL:https://www.workingitout.org.au/event/outspace-burnie-ages-13-18-2/2026-02-02/
LOCATION:WIO Burnie\, 29 Wilson Street\, Burnie\, Tasmania\, 7320\, Australia
CATEGORIES:WIO peer support group
ATTACH;FMTTYPE=image/jpeg:https://www.workingitout.org.au/wp-content/uploads/2024/06/OUTspace-Burnie-25.jpg
END:VEVENT
BEGIN:VEVENT
DTSTART;TZID=Australia/Hobart:20260202T160000
DTEND;TZID=Australia/Hobart:20260202T173000
DTSTAMP:20260419T173415
CREATED:20250803T233713Z
LAST-MODIFIED:20250930T234315Z
UID:10007922-1770048000-1770053400@www.workingitout.org.au
SUMMARY:OUTspace Hobart
DESCRIPTION:OUTspace is a social and peer support group for LGBTIQA+ young people\, and for young people who are not sure about their gender and/or sexuality. It’s an opportunity to meet\, hangout and learn from your community. \nOUTspace is a confidential group\, which means we can’t tell anyone that you’ve come to OUTspace without your permission. This also means that we don’t ‘out’ each other in public. \nWhat happens at OUTspace? \n\nIntroduce ourselves and our pronouns\nMake a group agreement so we feel safe to participate\nHear about and discuss LGBTIQA+ news\, events and culture\nShare experiences and ask questions of each other\nSocialising activities (boardgames/card games/video games)\nOccasional special events\, such as movie screenings\n\nOUTspace Hobart is facilitated at The Link Youth Health Service at YouthARC\, 1 Market Place\, Hobart. \nContact info@workingitout.org.au for more information. \nNote that this venue has level access and accessible toilets. \n\n\n\n\n \n\n \n\n\n \n\n\n\n\n\n\n\n\n\n\n\n\nBack to News/Events
URL:https://www.workingitout.org.au/event/outspace-hobart/2026-02-02/
LOCATION:Youth Arts & Recreation Centre\, 1 Market Place\, Hobart\, Tasmania\, 7000\, Australia
CATEGORIES:WIO peer support group
ATTACH;FMTTYPE=image/jpeg:https://www.workingitout.org.au/wp-content/uploads/2025/02/OUTspace-Hobart-2025.jpg
END:VEVENT
BEGIN:VEVENT
DTSTART;TZID=UTC:20260204T103000
DTEND;TZID=UTC:20260204T113000
DTSTAMP:20260419T173415
CREATED:20250307T040848Z
LAST-MODIFIED:20250529T013839Z
UID:10005168-1770201000-1770204600@www.workingitout.org.au
SUMMARY:Pride Coffee - Deloraine
DESCRIPTION:Pride Coffee is a monthly catch-up for the LGBTIQA+ community\, friends and allies. Held at Deloraine Deli in Deloraine on the 1st Wednesday of every month at 10:30am. \n\n\n\nPlease RSVP to Joseph@workingitout.org.au so we can ensure enough space for us! \n\n\n\nHope to see you there!
URL:https://www.workingitout.org.au/event/pride-coffee-deloraine-3/2026-02-04/
LOCATION:Deloraine Deli\, 81 Emu Bay Road\, Deloraine\, TAS\, 7250\, Australia
ATTACH;FMTTYPE=image/jpeg:https://www.workingitout.org.au/wp-content/uploads/2023/11/11.jpg
END:VEVENT
BEGIN:VEVENT
DTSTART;TZID=UTC:20260204T173000
DTEND;TZID=UTC:20260204T183000
DTSTAMP:20260419T173415
CREATED:20260203T054508Z
LAST-MODIFIED:20260203T054544Z
UID:10005799-1770226200-1770229800@www.workingitout.org.au
SUMMARY:Support Group for Parents & Carers of LGBTIQ+ Children
DESCRIPTION:Do you have questions about your child’s gender\, sexuality or intersex status? \n\n\n\nWould you like to meet other parents of children with diverse genders\, sexual orientations and bodies? \n\n\n\nHosted by one of our LGBTIQA+ Support Workers\, you can join this monthly group online to support\, learn and grow together. \n\n\n\nEmail ani@workingitout.org.au for more information\, or to get the Teams link.
URL:https://www.workingitout.org.au/event/support-group-for-parents-carers-of-lgbtiq-children-2/2026-02-04/
LOCATION:Tasmania
CATEGORIES:WIO peer support group
ATTACH;FMTTYPE=image/png:https://www.workingitout.org.au/wp-content/uploads/2020/08/Parent-Support-Group-Banner-1.png
END:VEVENT
BEGIN:VEVENT
DTSTART;TZID=Australia/Hobart:20260204T174500
DTEND;TZID=Australia/Hobart:20260204T190000
DTSTAMP:20260419T173415
CREATED:20250918T013617Z
LAST-MODIFIED:20250918T015817Z
UID:10007736-1770227100-1770231600@www.workingitout.org.au
SUMMARY:Gender Group - HOBART
DESCRIPTION:HOBART GENDER PEER SUPPORT GROUP (IN PERSON) \nWorking It Out’s Hobart based in person Gender Peer Support Group occurs on the first Wednesday of each month at Criterion House 108 Bathurst St. Nipaluna/Hobart. \nDoors open 5:45pm for a 6pm start. The group goes until 7pm. Enter via the Criterion House entrance on the left-hand side of the Flower Room. \nFor more info contact rosie@workingitout.org.au \n  \nTASMANIA WIDE ONLINE GENDER PEER SUPPORT GROUP \nWorking It Out’s statewide online Gender Support Group is on the third Tuesday of each month via Teams. From 5:45pm to 7pm. Contact rosie@workingitout.org.au for the Teams link. \nPeople from all parts of the state who are aged 18 and over are welcome to attend gender support groups online. Get in touch with Rosie in advance via email to receive the Teams meeting link if you’re planning on attending the online group. rosie@workingitout.org.au \n  \nBURNIE & DEVONPORT IN PERSON GENDER PEER SUPPORT GROUPS \nWorking It Out also run: \nBurnie Gender Support Group 5:30 – 7pm every second Wednesday of the month. \nDevonport Gender Support Group5:30 – 7pm every fourth Thursday of every month \nContact garry@workingitout.org.au \n  \nIf you have any questions\, concerns etc. please contact our main office via phone (6231 1200) or email (info@workingitout.org.au) \n\n \n__________________________________________________\nThis group offers gender identity peer support and discussion for anyone wanting to connect with others who are trans and gender diverse or questioning their gender identity.\nThis group is most suitable for those over 18.\nIf you are under 18\, we have another ‘all inclusive’ group for LGBTIQA+ and questioning young people called – OUTspace (see Events Calendar) .\n\n\n\n\n\n\nBack to News/Events
URL:https://www.workingitout.org.au/event/gender-group-in-person-hobart-4/2026-02-04/
LOCATION:WIO HQ\, Hobart\, 7000\, Australia
CATEGORIES:WIO peer support group
ATTACH;FMTTYPE=image/jpeg:https://www.workingitout.org.au/wp-content/uploads/2025/09/Gender-Group-In-Person-Hobart-Wed-2025.jpg
END:VEVENT
BEGIN:VEVENT
DTSTART;TZID=UTC:20260205T013000
DTEND;TZID=UTC:20260205T140000
DTSTAMP:20260419T173415
CREATED:20250529T064251Z
LAST-MODIFIED:20251030T040832Z
UID:10007133-1770255000-1770300000@www.workingitout.org.au
SUMMARY:Pride Coffee - George Town
DESCRIPTION:A monthly catch up for the LGBTIQA+ community\, friends and allies at George Town Neighbourhood House\, 187 Agnes Street\, George Town at 1pm on the 1st Thursday of every month.
URL:https://www.workingitout.org.au/event/pride-coffee-george-town/2026-02-05/
LOCATION:george town neighbourhood house\, 187 Agnes Street\, George Town\, Tasmania\, Australia
ATTACH;FMTTYPE=image/jpeg:https://www.workingitout.org.au/wp-content/uploads/2025/05/Pride-Coffee-5.jpg
END:VEVENT
BEGIN:VEVENT
DTSTART;TZID=UTC:20260206T143000
DTEND;TZID=UTC:20260206T163000
DTSTAMP:20260419T173415
CREATED:20260122T041533Z
LAST-MODIFIED:20260122T041536Z
UID:10008505-1770388200-1770395400@www.workingitout.org.au
SUMMARY:Crafternoon Pride Edition - WIO North Hobart
DESCRIPTION:Bring your own arts/crafts\, or use our basic supplies (paper\, pencils\, colouring books). No skill is necessary\, and you don’t even have to participate in art! We aim to lower the barriers to creative hobbies: just muck about with supplies in a relaxed environment and have a go. Everyone is welcome. RSVP kai@workingitout.org.au \n\n\n\nWorking It Out \n\n\n\nNorth Hobart WIO Office \n\n\n\n278 Argyle St\, North Hobart \n\n\n\n​ \n\n\n\nFree Activity \n\n\n\n​ \n\n\n\nwww.workingitout.org.au
URL:https://www.workingitout.org.au/event/crafternoon-pride-edition-wio-north-hobart/
LOCATION:Working It Out North Hobart\, 278 Argyle Street\, North Hobart\, Tasmania\, 7000
ATTACH;FMTTYPE=image/avif:https://www.workingitout.org.au/wp-content/uploads/2026/01/Crafternoons.avif
END:VEVENT
BEGIN:VEVENT
DTSTART;TZID=UTC:20260206T170000
DTEND;TZID=UTC:20260206T190000
DTSTAMP:20260419T173415
CREATED:20250307T040210Z
LAST-MODIFIED:20250307T040218Z
UID:10003348-1770397200-1770404400@www.workingitout.org.au
SUMMARY:Queer Drinks - Launceston and Northern Tasmania
DESCRIPTION:Come along for a friendly catch-up at the welcoming Royal Oak. All genders\, sexualities\, bodies and allies are welcome! You’ll find us at the end of the public bar\, in the couch area\, under the Pride flag. Contact their Facebook group for more details.
URL:https://www.workingitout.org.au/event/queer-drinks-launceston-and-northern-tasmania-3/2026-02-06/
LOCATION:The Royal Oak\, 14 Brisbane St\, Launceston\, TAS\, 7250\, Australia
ATTACH;FMTTYPE=image/png:https://www.workingitout.org.au/wp-content/uploads/2024/06/Queer-Drinks.png
END:VEVENT
BEGIN:VEVENT
DTSTART;TZID=UTC:20260206T173000
DTEND;TZID=UTC:20260206T200000
DTSTAMP:20260419T173415
CREATED:20251113T070728Z
LAST-MODIFIED:20251218T012338Z
UID:10008124-1770399000-1770408000@www.workingitout.org.au
SUMMARY:Out In The Garden
DESCRIPTION:Out in the Garden \n\n\n\nJoin Out In The Garden\, a relaxed LGBTIQA+ garden group where you can unwind\, connect\, and grow community\, not hangovers. \n\n\n\nFridays\, 5:30 – 8 pm | December 2025 – March 2026 \n\n\n\nWest Moonah Community Garden\, Corner of Winbourne Road and Springfield Ave\, West Moonah \n\n\n\nAlcohol\, drug\, smoke/vape free.  18+ only. \n\n\n\nfor more information click here \n\n\n\nRegistrations are appreciated but not essential. To let us know you’re planning on coming\, please email Bethany@workingitout.org.au \n\n\n\nWIO is delighted to partner with West Moonah Neighbourhood House and CTST to deliver this program\, which is supported by our partners the Alcohol and Drug Foundation (ADF). \n\n\n\nIf you or your business would also like to sponsor this program or make a donation\, please contact Bethany@workingitout.org.au
URL:https://www.workingitout.org.au/event/out-in-the-garden/2026-02-06/
LOCATION:west moonah community garden
ATTACH;FMTTYPE=image/png:https://www.workingitout.org.au/wp-content/uploads/2025/11/Out-in-the-garden-Logo-tile.png
END:VEVENT
BEGIN:VEVENT
DTSTART;TZID=UTC:20260207T150000
DTEND;TZID=UTC:20260207T170000
DTSTAMP:20260419T173415
CREATED:20260121T003736Z
LAST-MODIFIED:20260121T042833Z
UID:10008321-1770476400-1770483600@www.workingitout.org.au
SUMMARY:Pride Film Fest. Burnie
DESCRIPTION:Launch of statewide film Fest tour on Saturday February 7th with a matinee screening at the Burnie Arts Centre and will kick off with guest speaker Rodney Croome.  Pussay Poppins\, Barry Bothways & Gary Snow will be there and up to their usual mischief.  \n\n\n\nPride Film Fest. is a program of LGBTIQ+ short films curated for this tour by Queer Screen and produced by Side Quest. Ninety minutes of contemporary films from Australia\, Canada\, UK and USA with LGBTIQA+ film content.  \n\n\n\nAll films 15+. Closed caption screenings \n\n\n\nPrebook at TasPride Humanitix recommended. Door sales (card only) subject to availability.  \n\n\n\nFor more info about local events planned to compliment this screening visit the Pride Film Fest. page at www.taspride.com  \n\n\n\n​ \n\n\n\nJoin us at Pussay Poppin’s Drag Bingo in Penguin after the films. \n\n\n\n​ \n\n\n\nBurnie Arts Centre \n\n\n\n77-79 Wilmot Street Burnie \n\n\n\n$20 full\, $15 concession
URL:https://www.workingitout.org.au/event/pride-film-fest-burnie/
LOCATION:Tasmania
ATTACH;FMTTYPE=image/jpeg:https://www.workingitout.org.au/wp-content/uploads/2026/01/WIO_Pride-Film-Fest_Burnie_150x150mm_V4.jpg
END:VEVENT
BEGIN:VEVENT
DTSTART;TZID=UTC:20260207T183000
DTEND;TZID=UTC:20260207T210000
DTSTAMP:20260419T173415
CREATED:20260121T005453Z
LAST-MODIFIED:20260121T010307Z
UID:10008322-1770489000-1770498000@www.workingitout.org.au
SUMMARY:Drag Bingo with Pussay Poppins - Penguin
DESCRIPTION:Pussay Poppins is bringing Drag Bingo back to the North West Coast for Tasmanian Pride Month! Pussay will be doing a Bingo in Penguin after her appearance at the Burnie Pride Film Fest. Tickets to the Pride film fest can be found HERE \n\n\n\nThis event is intended for an adult audience as she can get rude\, crude and outrageous….especially if your name is Sarah. This event is open to the queer community\, their friends\, families and allies. \n\n\n\nTicket price – Food & Drinks are available for purchase! \n\n\n\nPenguin Beer Co 85 Main Street\, Penguin \n\n\n\n$30 – includes performance & games \n\n\n\nTicket link via www.taspride.com
URL:https://www.workingitout.org.au/event/drag-bingo-with-pussay-poppins-penguin/
LOCATION:Tasmania
ATTACH;FMTTYPE=image/avif:https://www.workingitout.org.au/wp-content/uploads/2026/01/DragBingoPenquin.avif
END:VEVENT
BEGIN:VEVENT
DTSTART;TZID=UTC:20260208T150000
DTEND;TZID=UTC:20260208T163000
DTSTAMP:20260419T173415
CREATED:20260121T042628Z
LAST-MODIFIED:20260121T042632Z
UID:10008324-1770562800-1770568200@www.workingitout.org.au
SUMMARY:Pride Film Fest. Queenstown
DESCRIPTION:Pride Film Fest. is a program of 90 minutes of LGBTIQA+ short films from Australia\, Canada\, UK and USA\, curated for this tour by Queer Screen and produced by Side Quest. All films 15+. Closed caption screenings \n\n\n\nFor more about the Pride Film Fest. and the TasPride Summer Festival Guide go to www.taspride.com \n\n\n\n​​ \n\n\n\nParagon Theatre \n\n\n\n11 McNamara Street Queenstown​​​ \n\n\n\n$17 full. $12 concession
URL:https://www.workingitout.org.au/event/pride-film-fest-queenstown/
LOCATION:Paragon Theatre\, 11 McNamara St\, Queenstown\, Tasmania\, Australia
ATTACH;FMTTYPE=image/jpeg:https://www.workingitout.org.au/wp-content/uploads/2026/01/11.jpg
END:VEVENT
BEGIN:VEVENT
DTSTART;TZID=UTC:20260208T193000
DTEND;TZID=UTC:20260208T220000
DTSTAMP:20260419T173415
CREATED:20260121T041836Z
LAST-MODIFIED:20260121T041838Z
UID:10008323-1770579000-1770588000@www.workingitout.org.au
SUMMARY:The Cruise - TasPride Summer Festival Event
DESCRIPTION:The Cruise is back. TasPride’s Summer Festival sets sail on Peppermint Bay’s luxurious catamaran for one unforgettable night! Cruise the Derwent River and enjoy the Regatta fireworks from Hobart’s best view. \n\n\n\nYour ticket includes canapés\, a cash bar\, and dazzling performers: Rosa Rita\, X-Quizette\, and Persephone Luxe\, plus a DJ for dancing. Dress to impress for a night of pride and fun! You won’t want to miss this. \n\n\n\nTickets at www.taspride.com
URL:https://www.workingitout.org.au/event/the-cruise-taspride-summer-festival-event/
LOCATION:Tasmania
ATTACH;FMTTYPE=image/avif:https://www.workingitout.org.au/wp-content/uploads/2026/01/TheCruise.avif
END:VEVENT
END:VCALENDAR