BEGIN:VCALENDAR
VERSION:2.0
PRODID:-//Working It Out Inc. - ECPv6.15.20//NONSGML v1.0//EN
CALSCALE:GREGORIAN
METHOD:PUBLISH
X-ORIGINAL-URL:https://www.workingitout.org.au
X-WR-CALDESC:Events for Working It Out Inc.
REFRESH-INTERVAL;VALUE=DURATION:PT1H
X-Robots-Tag:noindex
X-PUBLISHED-TTL:PT1H
BEGIN:VTIMEZONE
TZID:Australia/Hobart
BEGIN:STANDARD
TZOFFSETFROM:+1100
TZOFFSETTO:+1000
TZNAME:AEST
DTSTART:20250405T160000
END:STANDARD
BEGIN:DAYLIGHT
TZOFFSETFROM:+1000
TZOFFSETTO:+1100
TZNAME:AEDT
DTSTART:20251004T160000
END:DAYLIGHT
BEGIN:STANDARD
TZOFFSETFROM:+1100
TZOFFSETTO:+1000
TZNAME:AEST
DTSTART:20260404T160000
END:STANDARD
BEGIN:DAYLIGHT
TZOFFSETFROM:+1000
TZOFFSETTO:+1100
TZNAME:AEDT
DTSTART:20261003T160000
END:DAYLIGHT
BEGIN:STANDARD
TZOFFSETFROM:+1100
TZOFFSETTO:+1000
TZNAME:AEST
DTSTART:20270403T160000
END:STANDARD
BEGIN:DAYLIGHT
TZOFFSETFROM:+1000
TZOFFSETTO:+1100
TZNAME:AEDT
DTSTART:20271002T160000
END:DAYLIGHT
END:VTIMEZONE
BEGIN:VTIMEZONE
TZID:UTC
BEGIN:STANDARD
TZOFFSETFROM:+0000
TZOFFSETTO:+0000
TZNAME:UTC
DTSTART:20250101T000000
END:STANDARD
END:VTIMEZONE
BEGIN:VEVENT
DTSTART;TZID=Australia/Hobart:20260406T160000
DTEND;TZID=Australia/Hobart:20260406T173000
DTSTAMP:20260419T174648
CREATED:20250803T233713Z
LAST-MODIFIED:20250930T234315Z
UID:10007924-1775491200-1775496600@www.workingitout.org.au
SUMMARY:OUTspace Hobart
DESCRIPTION:OUTspace is a social and peer support group for LGBTIQA+ young people\, and for young people who are not sure about their gender and/or sexuality. It’s an opportunity to meet\, hangout and learn from your community. \nOUTspace is a confidential group\, which means we can’t tell anyone that you’ve come to OUTspace without your permission. This also means that we don’t ‘out’ each other in public. \nWhat happens at OUTspace? \n\nIntroduce ourselves and our pronouns\nMake a group agreement so we feel safe to participate\nHear about and discuss LGBTIQA+ news\, events and culture\nShare experiences and ask questions of each other\nSocialising activities (boardgames/card games/video games)\nOccasional special events\, such as movie screenings\n\nOUTspace Hobart is facilitated at The Link Youth Health Service at YouthARC\, 1 Market Place\, Hobart. \nContact info@workingitout.org.au for more information. \nNote that this venue has level access and accessible toilets. \n\n\n\n\n \n\n \n\n\n \n\n\n\n\n\n\n\n\n\n\n\n\nBack to News/Events
URL:https://www.workingitout.org.au/event/outspace-hobart/2026-04-06/
LOCATION:Youth Arts & Recreation Centre\, 1 Market Place\, Hobart\, Tasmania\, 7000\, Australia
CATEGORIES:WIO peer support group
ATTACH;FMTTYPE=image/jpeg:https://www.workingitout.org.au/wp-content/uploads/2025/02/OUTspace-Hobart-2025.jpg
END:VEVENT
BEGIN:VEVENT
DTSTART;TZID=UTC:20260407T170000
DTEND;TZID=UTC:20260407T193000
DTSTAMP:20260419T174648
CREATED:20251030T025312Z
LAST-MODIFIED:20260226T034939Z
UID:10008017-1775581200-1775590200@www.workingitout.org.au
SUMMARY:Pride Games with May - launceston
DESCRIPTION:Pride Games with May at the Launceston WIO office – every 2 weeks on a Tuesday 5:00PM – 7:30PM. \n\n\n\nA night of community and connection with Board Games\, Card Games and Video Games held at the WIO Launceston Office. Email Joseph at joseph@workingitout.org.au or phone 0438 346 122 for more details.
URL:https://www.workingitout.org.au/event/pride-games-with-may-launceston-2/2026-04-07/
LOCATION:Working It Out Launceston\, Kilby’s Lane\, 56 Cimitere Street\, Launceston\, TAS\, 7250\, Australia
ATTACH;FMTTYPE=image/png:https://www.workingitout.org.au/wp-content/uploads/2025/08/Pride-Games-Launceston-May-1-1.png
END:VEVENT
BEGIN:VEVENT
DTSTART;TZID=UTC:20260408T103000
DTEND;TZID=UTC:20260408T113000
DTSTAMP:20260419T174648
CREATED:20251218T053651Z
LAST-MODIFIED:20251218T053805Z
UID:10006487-1775644200-1775647800@www.workingitout.org.au
SUMMARY:Pride Coffee - Launceston
DESCRIPTION:Pride Coffee is a monthly catch-up for the LGBTIQA+ community\, friends and allies. Held at Earthy Eats\, 19 Kingsway\, Launceston on the 2nd Wednesday of every month at 11:00 am. For any enquiries please contact: joseph@workingitout.org.au Hope to See you there!
URL:https://www.workingitout.org.au/event/pride-coffee-launceston-2/2026-04-08/
LOCATION:Earthy Eats\, 19 Kingsway\, Launceston\, TAS\, 7250\, Australia
CATEGORIES:WIO peer support group
ATTACH;FMTTYPE=image/jpeg:https://www.workingitout.org.au/wp-content/uploads/2025/05/Launceston-Pride-Coffee-Jo-1.jpg
END:VEVENT
BEGIN:VEVENT
DTSTART;TZID=UTC:20260408T173000
DTEND;TZID=UTC:20260408T190000
DTSTAMP:20260419T174648
CREATED:20240506T014157Z
LAST-MODIFIED:20241017T023726Z
UID:10002788-1775669400-1775674800@www.workingitout.org.au
SUMMARY:Gender Group - Burnie
DESCRIPTION:Gender identity peer support and discussion for anyone wanting to connect with others who are trans and gender diverse\, or questioning their gender identity. \n\n\n\nHeld on the 2nd Wednesday of each month from 5:30-7:00 pm. \n\n\n\nIf you would like more information or would like to RSVP\, please contact Garry by email or phone (0455 031 262 / garry@workingitout.org.au) \n\n\n\nThis group is intended for those people 18 years old and over. If you are under 18\, we have another group that is all inclusive called OUTSpace also held in Burnie and Devonport each month. \n\n\n\n*****************************************
URL:https://www.workingitout.org.au/event/gender-group-burnie/2026-04-08/
LOCATION:Working It Out Burnie\, 29 Wilson Street\, Burnie\, TAS\, 7320
ATTACH;FMTTYPE=image/png:https://www.workingitout.org.au/wp-content/uploads/2024/05/FB-Event-Copy-of-Gender-Group-NW-2.png
END:VEVENT
BEGIN:VEVENT
DTSTART;TZID=UTC:20260409T103000
DTEND;TZID=UTC:20260409T103000
DTSTAMP:20260419T174648
CREATED:20250529T063039Z
LAST-MODIFIED:20250529T063042Z
UID:10007075-1775730600-1775730600@www.workingitout.org.au
SUMMARY:Pride Coffee - Devonport
DESCRIPTION:A monthly catch-up for the LGBTIQA+ community\, friends and allies. 10:30 – 11:30am at the Laneway Cafe\, 38 Steele Street\, Devonport every 2nd Thursday of the month. RSVP garry@workingitout.org.au
URL:https://www.workingitout.org.au/event/pride-coffee-devonport/2026-04-09/
LOCATION:The Laneway\, 2/38 Steele Street\, Devonport\, TAS\, 7250\, Australia
END:VEVENT
BEGIN:VEVENT
DTSTART;TZID=UTC:20260409T160000
DTEND;TZID=UTC:20260409T173000
DTSTAMP:20260419T174648
CREATED:20250617T044229Z
LAST-MODIFIED:20251020T012307Z
UID:10003674-1775750400-1775755800@www.workingitout.org.au
SUMMARY:OUTspace Devonport (Ages:13-18)
DESCRIPTION:OUTspace is a social and peer support group for LGBTIQA+ young people (ages 13 – 18)\, and for young people who are not sure about their gender and/or sexuality. It’s an opportunity to meet\, hang out and learn from your community. \n\n\n\nOUTspace is a confidential group\, which means we can’t tell anyone that you’ve come to OUTspace without your permission. This also means that we don’t ‘out’ each other in public. \n\n\n\nWhat happens at OUTspace?• Introduce ourselves and our pronouns• Make a group agreement so we feel safe to participate• Hear about and discuss LGBTIQA+ news\, events and culture• Share experiences and ask questions of each other• Socialising activities (boardgames / card games / video games)• Occasional special events\, such as movie screenings \n\n\n\nOUTspace Devonport is facilitated at the Devonport Library\, upstairs at the Paranaple Centre\, 137 Rooke Street\, Devonport TAS 7310 \n\n\n\nContact Garry at Garry@workingitout.org.au for more information. \n\n\n\n\n\n\n\n\n\n\n\nBack to News/Events
URL:https://www.workingitout.org.au/event/outspace-devonport-ages13-18-2/2026-04-09/
LOCATION:YFCC 62 Stewart Street Devonport TAS 7310\, 62 Stewart Street\, Devonport\, 7310\, Australia
ATTACH;FMTTYPE=image/jpeg:https://www.workingitout.org.au/wp-content/uploads/2024/08/OUTspace-Devonport-2025.jpg
END:VEVENT
BEGIN:VEVENT
DTSTART;TZID=UTC:20260409T173000
DTEND;TZID=UTC:20260409T193000
DTSTAMP:20260419T174648
CREATED:20251208T002852Z
LAST-MODIFIED:20251208T003156Z
UID:10008140-1775755800-1775763000@www.workingitout.org.au
SUMMARY:OutSpace Launceston / Thyne House
DESCRIPTION:A casual youth (16-25) games night for LGBTIQA+ folks and allies. Thyne House residents and visitors are welcome. Contact Joseph at joseph@workingitout.org.au for more details.\n\n\n\n.
URL:https://www.workingitout.org.au/event/outspace-launceston-thyne-house/2026-04-09/
LOCATION:Tasmania
ATTACH;FMTTYPE=image/jpeg:https://www.workingitout.org.au/wp-content/uploads/2025/01/OutSpace-Thyne-House-Launceston.jpg
END:VEVENT
END:VCALENDAR