BEGIN:VCALENDAR
VERSION:2.0
PRODID:-//Working It Out Inc. - ECPv6.15.20//NONSGML v1.0//EN
CALSCALE:GREGORIAN
METHOD:PUBLISH
X-WR-CALNAME:Working It Out Inc.
X-ORIGINAL-URL:https://www.workingitout.org.au
X-WR-CALDESC:Events for Working It Out Inc.
REFRESH-INTERVAL;VALUE=DURATION:PT1H
X-Robots-Tag:noindex
X-PUBLISHED-TTL:PT1H
BEGIN:VTIMEZONE
TZID:UTC
BEGIN:STANDARD
TZOFFSETFROM:+0000
TZOFFSETTO:+0000
TZNAME:UTC
DTSTART:20290101T000000
END:STANDARD
END:VTIMEZONE
BEGIN:VTIMEZONE
TZID:Australia/Hobart
BEGIN:STANDARD
TZOFFSETFROM:+1100
TZOFFSETTO:+1000
TZNAME:AEST
DTSTART:20290331T160000
END:STANDARD
BEGIN:DAYLIGHT
TZOFFSETFROM:+1000
TZOFFSETTO:+1100
TZNAME:AEDT
DTSTART:20291006T160000
END:DAYLIGHT
BEGIN:STANDARD
TZOFFSETFROM:+1100
TZOFFSETTO:+1000
TZNAME:AEST
DTSTART:20300406T160000
END:STANDARD
BEGIN:DAYLIGHT
TZOFFSETFROM:+1000
TZOFFSETTO:+1100
TZNAME:AEDT
DTSTART:20301005T160000
END:DAYLIGHT
BEGIN:STANDARD
TZOFFSETFROM:+1100
TZOFFSETTO:+1000
TZNAME:AEST
DTSTART:20310405T160000
END:STANDARD
BEGIN:DAYLIGHT
TZOFFSETFROM:+1000
TZOFFSETTO:+1100
TZNAME:AEDT
DTSTART:20311004T160000
END:DAYLIGHT
END:VTIMEZONE
BEGIN:VEVENT
DTSTART;TZID=UTC:20300611T170000
DTEND;TZID=UTC:20300611T193000
DTSTAMP:20260425T113148
CREATED:20251030T025312Z
LAST-MODIFIED:20260226T034939Z
UID:10007610-1907427600-1907436600@www.workingitout.org.au
SUMMARY:Pride Games with May - launceston
DESCRIPTION:Pride Games with May at the Launceston WIO office – every 2 weeks on a Tuesday 5:00PM – 7:30PM. \n\n\n\nA night of community and connection with Board Games\, Card Games and Video Games held at the WIO Launceston Office. Email Joseph at joseph@workingitout.org.au or phone 0438 346 122 for more details.
URL:https://www.workingitout.org.au/event/pride-games-with-may-launceston-2/2030-06-11/
LOCATION:Working It Out Launceston\, Kilby’s Lane\, 56 Cimitere Street\, Launceston\, TAS\, 7250\, Australia
ATTACH;FMTTYPE=image/png:https://www.workingitout.org.au/wp-content/uploads/2025/08/Pride-Games-Launceston-May-1-1.png
END:VEVENT
BEGIN:VEVENT
DTSTART;TZID=Australia/Hobart:20300611T174500
DTEND;TZID=Australia/Hobart:20300611T190000
DTSTAMP:20260425T113148
CREATED:20260312T005135Z
LAST-MODIFIED:20260320T022153Z
UID:10008957-1907430300-1907434800@www.workingitout.org.au
SUMMARY:Gender Group - HOBART
DESCRIPTION:HOBART GENDER PEER SUPPORT GROUP (IN PERSON) \nWorking It Out’s Hobart based in person Gender Peer Support Group occurs on the first Tuesday of each month at Criterion House 108 Bathurst St. Nipaluna/Hobart. Except April 2026 when it will be held on the 2nd Tuesday (14th April). \nDoors open 5:45pm for a 6pm start. The group goes until 7pm. Enter via the Criterion House entrance on the left-hand side of the Flower Room. \nFor more info contact don@workingitout.org.au \nTASMANIA WIDE ONLINE GENDER PEER SUPPORT GROUP \nWorking It Out’s statewide Online Gender Support Group is on the third Tuesday of each month via Teams. From 5:45pm to 7pm. Contact ambrose@workingitout.org.au for the Teams link. \nPeople from all parts of the state who are aged 18 and over are welcome to attend gender support groups online. Get in touch with Rosie in advance via email to receive the Teams meeting link if you’re planning on attending the online group. ambrose@workingitout.org.au \nBURNIE & DEVONPORT IN PERSON GENDER PEER SUPPORT GROUPS \nWorking It Out also run: \nBurnie Gender Support Group 5:30 – 7pm every second Wednesday of the month. \nDevonport Gender Support Group5:30 – 7pm every fourth Thursday of every month \nContact garry@workingitout.org.au \nIf you have any questions\, concerns etc. please contact our main office via phone (6231 1200) or email (info@workingitout.org.au) \n\n \n__________________________________________________\nThis group offers gender identity peer support and discussion for anyone wanting to connect with others who are trans and gender diverse or questioning their gender identity.\nThis group is most suitable for those over 18.\nIf you are under 18\, we have another ‘all inclusive’ group for LGBTIQA+ and questioning young people called – OUTspace (see Events Calendar) .\n\n\n\n\n\n\nBack to News/Events
URL:https://www.workingitout.org.au/event/gender-group-hobart/2030-06-11/
LOCATION:WIO HQ\, Hobart\, 7000\, Australia
CATEGORIES:WIO peer support group
ATTACH;FMTTYPE=image/jpeg:https://www.workingitout.org.au/wp-content/uploads/2026/03/Gender-Group-Square.jpg
END:VEVENT
BEGIN:VEVENT
DTSTART;TZID=UTC:20300612T103000
DTEND;TZID=UTC:20300612T113000
DTSTAMP:20260425T113148
CREATED:20251218T053651Z
LAST-MODIFIED:20251218T053805Z
UID:10007997-1907490600-1907494200@www.workingitout.org.au
SUMMARY:Pride Coffee - Launceston
DESCRIPTION:Pride Coffee is a monthly catch-up for the LGBTIQA+ community\, friends and allies. Held at Earthy Eats\, 19 Kingsway\, Launceston on the 2nd Wednesday of every month at 11:00 am. For any enquiries please contact: joseph@workingitout.org.au Hope to See you there!
URL:https://www.workingitout.org.au/event/pride-coffee-launceston-2/2030-06-12/
LOCATION:Earthy Eats\, 19 Kingsway\, Launceston\, TAS\, 7250\, Australia
CATEGORIES:WIO peer support group
ATTACH;FMTTYPE=image/jpeg:https://www.workingitout.org.au/wp-content/uploads/2025/05/Launceston-Pride-Coffee-Jo-1.jpg
END:VEVENT
BEGIN:VEVENT
DTSTART;TZID=UTC:20300613T160000
DTEND;TZID=UTC:20300613T173000
DTSTAMP:20260425T113148
CREATED:20250617T044229Z
LAST-MODIFIED:20251020T012307Z
UID:10007342-1907596800-1907602200@www.workingitout.org.au
SUMMARY:OUTspace Devonport (Ages:13-18)
DESCRIPTION:OUTspace is a social and peer support group for LGBTIQA+ young people (ages 13 – 18)\, and for young people who are not sure about their gender and/or sexuality. It’s an opportunity to meet\, hang out and learn from your community. \n\n\n\nOUTspace is a confidential group\, which means we can’t tell anyone that you’ve come to OUTspace without your permission. This also means that we don’t ‘out’ each other in public. \n\n\n\nWhat happens at OUTspace?• Introduce ourselves and our pronouns• Make a group agreement so we feel safe to participate• Hear about and discuss LGBTIQA+ news\, events and culture• Share experiences and ask questions of each other• Socialising activities (boardgames / card games / video games)• Occasional special events\, such as movie screenings \n\n\n\nOUTspace Devonport is facilitated at the Devonport Library\, upstairs at the Paranaple Centre\, 137 Rooke Street\, Devonport TAS 7310 \n\n\n\nContact Garry at Garry@workingitout.org.au for more information. \n\n\n\n\n\n\n\n\n\n\n\nBack to News/Events
URL:https://www.workingitout.org.au/event/outspace-devonport-ages13-18-2/2030-06-13/
LOCATION:YFCC 62 Stewart Street Devonport TAS 7310\, 62 Stewart Street\, Devonport\, 7310\, Australia
ATTACH;FMTTYPE=image/jpeg:https://www.workingitout.org.au/wp-content/uploads/2024/08/OUTspace-Devonport-2025.jpg
END:VEVENT
BEGIN:VEVENT
DTSTART;TZID=UTC:20300613T173000
DTEND;TZID=UTC:20300613T193000
DTSTAMP:20260425T113148
CREATED:20251208T002852Z
LAST-MODIFIED:20251208T003156Z
UID:10008190-1907602200-1907609400@www.workingitout.org.au
SUMMARY:OutSpace Launceston / Thyne House
DESCRIPTION:A casual youth (16-25) games night for LGBTIQA+ folks and allies. Thyne House residents and visitors are welcome. Contact Joseph at joseph@workingitout.org.au for more details.\n\n\n\n.
URL:https://www.workingitout.org.au/event/outspace-launceston-thyne-house/2030-06-13/
LOCATION:Tasmania
ATTACH;FMTTYPE=image/jpeg:https://www.workingitout.org.au/wp-content/uploads/2025/01/OutSpace-Thyne-House-Launceston.jpg
END:VEVENT
END:VCALENDAR