BEGIN:VCALENDAR
VERSION:2.0
PRODID:-//Working It Out Inc. - ECPv6.15.20//NONSGML v1.0//EN
CALSCALE:GREGORIAN
METHOD:PUBLISH
X-WR-CALNAME:Working It Out Inc.
X-ORIGINAL-URL:https://www.workingitout.org.au
X-WR-CALDESC:Events for Working It Out Inc.
REFRESH-INTERVAL;VALUE=DURATION:PT1H
X-Robots-Tag:noindex
X-PUBLISHED-TTL:PT1H
BEGIN:VTIMEZONE
TZID:UTC
BEGIN:STANDARD
TZOFFSETFROM:+0000
TZOFFSETTO:+0000
TZNAME:UTC
DTSTART:20250101T000000
END:STANDARD
END:VTIMEZONE
BEGIN:VEVENT
DTSTART;TZID=UTC:20260130T123000
DTEND;TZID=UTC:20260130T133000
DTSTAMP:20260419T210519
CREATED:20260120T035049Z
LAST-MODIFIED:20260120T035243Z
UID:10008319-1769776200-1769779800@www.workingitout.org.au
SUMMARY:TasPride Summer Festival Flag Raising Ceremony
DESCRIPTION:Flag Raising – TasPride \n\n\n\nFri 30th of Jan 12:30pm \n\n\n\nTasPride Summer Festival 2026 Opening! Join us for the Flag Raising Ceremony at Hobart Town Hall. This moment unfurls the Pride flags\, which fly proudly over Hobart for the festival’s duration—a symbol of diversity\, inclusion\, and community spirit. \n\n\n\nStay after the ceremony for light nibbles and refreshments inside the Town Hall. \n\n\n\nHobart City Council Town Hall \n\n\n\n50 Macquarie St\, Hobart TAS 7001 \n\n\n\nFree \n\n\n\nFor more info on TasPride Summer Festival Events www.taspride.com
URL:https://www.workingitout.org.au/event/taspride-summer-festival-flag-raising-ceremony/
LOCATION:Hobart City Town Hall\, 50 Macquarie St\,\, Hobart\, Tasmania\, 7000\, Australia
ATTACH;FMTTYPE=image/jpeg:https://www.workingitout.org.au/wp-content/uploads/2026/01/FlagRaising.jpg
END:VEVENT
END:VCALENDAR