BEGIN:VCALENDAR
VERSION:2.0
PRODID:-//Working It Out Inc. - ECPv6.15.20//NONSGML v1.0//EN
CALSCALE:GREGORIAN
METHOD:PUBLISH
X-ORIGINAL-URL:https://www.workingitout.org.au
X-WR-CALDESC:Events for Working It Out Inc.
REFRESH-INTERVAL;VALUE=DURATION:PT1H
X-Robots-Tag:noindex
X-PUBLISHED-TTL:PT1H
BEGIN:VTIMEZONE
TZID:UTC
BEGIN:STANDARD
TZOFFSETFROM:+0000
TZOFFSETTO:+0000
TZNAME:UTC
DTSTART:20240101T000000
END:STANDARD
END:VTIMEZONE
BEGIN:VEVENT
DTSTART;TZID=UTC:20260317T103000
DTEND;TZID=UTC:20260317T113000
DTSTAMP:20260419T163205
CREATED:20251020T004600Z
LAST-MODIFIED:20251020T004604Z
UID:10007013-1773743400-1773747000@www.workingitout.org.au
SUMMARY:Pride Coffee - Smithton
DESCRIPTION:Pride Coffee is a monthly catch-up for the LGBTIQA+ community\, friends and allies. Held at Hugos Brew & Chew\, 55 Emmett St  in Smithton on the 3rd Tuesday of every month at 10:30am. RSVP garry@workingitout.org.au
URL:https://www.workingitout.org.au/event/pride-coffee-smithton-2/2026-03-17/
LOCATION:Hugo’s Brew & Chew\, 55 Emmett Street\, Smithton\, TAS\, 7010\, Australia
END:VEVENT
BEGIN:VEVENT
DTSTART;TZID=UTC:20260217T103000
DTEND;TZID=UTC:20260217T113000
DTSTAMP:20260419T163205
CREATED:20251020T004600Z
LAST-MODIFIED:20251020T004604Z
UID:10007012-1771324200-1771327800@www.workingitout.org.au
SUMMARY:Pride Coffee - Smithton
DESCRIPTION:Pride Coffee is a monthly catch-up for the LGBTIQA+ community\, friends and allies. Held at Hugos Brew & Chew\, 55 Emmett St  in Smithton on the 3rd Tuesday of every month at 10:30am. RSVP garry@workingitout.org.au
URL:https://www.workingitout.org.au/event/pride-coffee-smithton-2/2026-02-17/
LOCATION:Hugo’s Brew & Chew\, 55 Emmett Street\, Smithton\, TAS\, 7010\, Australia
END:VEVENT
BEGIN:VEVENT
DTSTART;TZID=UTC:20260120T103000
DTEND;TZID=UTC:20260120T113000
DTSTAMP:20260419T163205
CREATED:20251020T004600Z
LAST-MODIFIED:20251020T004604Z
UID:10007011-1768905000-1768908600@www.workingitout.org.au
SUMMARY:Pride Coffee - Smithton
DESCRIPTION:Pride Coffee is a monthly catch-up for the LGBTIQA+ community\, friends and allies. Held at Hugos Brew & Chew\, 55 Emmett St  in Smithton on the 3rd Tuesday of every month at 10:30am. RSVP garry@workingitout.org.au
URL:https://www.workingitout.org.au/event/pride-coffee-smithton-2/2026-01-20/
LOCATION:Hugo’s Brew & Chew\, 55 Emmett Street\, Smithton\, TAS\, 7010\, Australia
END:VEVENT
BEGIN:VEVENT
DTSTART;TZID=UTC:20251216T103000
DTEND;TZID=UTC:20251216T113000
DTSTAMP:20260419T163205
CREATED:20251020T004600Z
LAST-MODIFIED:20251020T004604Z
UID:10007010-1765881000-1765884600@www.workingitout.org.au
SUMMARY:Pride Coffee - Smithton
DESCRIPTION:Pride Coffee is a monthly catch-up for the LGBTIQA+ community\, friends and allies. Held at Hugos Brew & Chew\, 55 Emmett St  in Smithton on the 3rd Tuesday of every month at 10:30am. RSVP garry@workingitout.org.au
URL:https://www.workingitout.org.au/event/pride-coffee-smithton-2/2025-12-16/
LOCATION:Hugo’s Brew & Chew\, 55 Emmett Street\, Smithton\, TAS\, 7010\, Australia
END:VEVENT
BEGIN:VEVENT
DTSTART;TZID=UTC:20251118T103000
DTEND;TZID=UTC:20251118T113000
DTSTAMP:20260419T163205
CREATED:20251020T004600Z
LAST-MODIFIED:20251020T004604Z
UID:10007008-1763461800-1763465400@www.workingitout.org.au
SUMMARY:Pride Coffee - Smithton
DESCRIPTION:Pride Coffee is a monthly catch-up for the LGBTIQA+ community\, friends and allies. Held at Hugos Brew & Chew\, 55 Emmett St  in Smithton on the 3rd Tuesday of every month at 10:30am. RSVP garry@workingitout.org.au
URL:https://www.workingitout.org.au/event/pride-coffee-smithton-2/2025-11-18/
LOCATION:Hugo’s Brew & Chew\, 55 Emmett Street\, Smithton\, TAS\, 7010\, Australia
END:VEVENT
BEGIN:VEVENT
DTSTART;TZID=UTC:20250916T103000
DTEND;TZID=UTC:20250916T113000
DTSTAMP:20260419T163205
CREATED:20250529T062013Z
LAST-MODIFIED:20250529T062016Z
UID:10007007-1758018600-1758022200@www.workingitout.org.au
SUMMARY:Pride Coffee - Smithton
DESCRIPTION:Pride Coffee is a monthly catch-up for the LGBTIQA+ community\, friends and allies. Held at Hugos Brew & Chew\, 55 Emmett St  in Smithton on the 3rd Tuesday of every month at 10:30am. RSVP garry@workingitout.org.au
URL:https://www.workingitout.org.au/event/pride-coffee-smithton/2025-09-16/
LOCATION:Hugo’s Brew & Chew\, 55 Emmett Street\, Smithton\, TAS\, 7010\, Australia
END:VEVENT
BEGIN:VEVENT
DTSTART;TZID=UTC:20250819T103000
DTEND;TZID=UTC:20250819T113000
DTSTAMP:20260419T163205
CREATED:20250529T062013Z
LAST-MODIFIED:20250529T062016Z
UID:10007006-1755599400-1755603000@www.workingitout.org.au
SUMMARY:Pride Coffee - Smithton
DESCRIPTION:Pride Coffee is a monthly catch-up for the LGBTIQA+ community\, friends and allies. Held at Hugos Brew & Chew\, 55 Emmett St  in Smithton on the 3rd Tuesday of every month at 10:30am. RSVP garry@workingitout.org.au
URL:https://www.workingitout.org.au/event/pride-coffee-smithton/2025-08-19/
LOCATION:Hugo’s Brew & Chew\, 55 Emmett Street\, Smithton\, TAS\, 7010\, Australia
END:VEVENT
BEGIN:VEVENT
DTSTART;TZID=UTC:20250715T103000
DTEND;TZID=UTC:20250715T113000
DTSTAMP:20260419T163205
CREATED:20250529T062013Z
LAST-MODIFIED:20250529T062016Z
UID:10007005-1752575400-1752579000@www.workingitout.org.au
SUMMARY:Pride Coffee - Smithton
DESCRIPTION:Pride Coffee is a monthly catch-up for the LGBTIQA+ community\, friends and allies. Held at Hugos Brew & Chew\, 55 Emmett St  in Smithton on the 3rd Tuesday of every month at 10:30am. RSVP garry@workingitout.org.au
URL:https://www.workingitout.org.au/event/pride-coffee-smithton/2025-07-15/
LOCATION:Hugo’s Brew & Chew\, 55 Emmett Street\, Smithton\, TAS\, 7010\, Australia
END:VEVENT
BEGIN:VEVENT
DTSTART;TZID=UTC:20250617T103000
DTEND;TZID=UTC:20250617T113000
DTSTAMP:20260419T163205
CREATED:20250529T062013Z
LAST-MODIFIED:20250529T062016Z
UID:10007004-1750156200-1750159800@www.workingitout.org.au
SUMMARY:Pride Coffee - Smithton
DESCRIPTION:Pride Coffee is a monthly catch-up for the LGBTIQA+ community\, friends and allies. Held at Hugos Brew & Chew\, 55 Emmett St  in Smithton on the 3rd Tuesday of every month at 10:30am. RSVP garry@workingitout.org.au
URL:https://www.workingitout.org.au/event/pride-coffee-smithton/2025-06-17/
LOCATION:Hugo’s Brew & Chew\, 55 Emmett Street\, Smithton\, TAS\, 7010\, Australia
END:VEVENT
BEGIN:VEVENT
DTSTART;TZID=UTC:20250520T103000
DTEND;TZID=UTC:20250520T113000
DTSTAMP:20260419T163205
CREATED:20250529T062013Z
LAST-MODIFIED:20250529T062016Z
UID:10007003-1747737000-1747740600@www.workingitout.org.au
SUMMARY:Pride Coffee - Smithton
DESCRIPTION:Pride Coffee is a monthly catch-up for the LGBTIQA+ community\, friends and allies. Held at Hugos Brew & Chew\, 55 Emmett St  in Smithton on the 3rd Tuesday of every month at 10:30am. RSVP garry@workingitout.org.au
URL:https://www.workingitout.org.au/event/pride-coffee-smithton/2025-05-20/
LOCATION:Hugo’s Brew & Chew\, 55 Emmett Street\, Smithton\, TAS\, 7010\, Australia
END:VEVENT
END:VCALENDAR