BEGIN:VCALENDAR
VERSION:2.0
PRODID:-//Working It Out Inc. - ECPv6.15.20//NONSGML v1.0//EN
CALSCALE:GREGORIAN
METHOD:PUBLISH
X-ORIGINAL-URL:https://www.workingitout.org.au
X-WR-CALDESC:Events for Working It Out Inc.
REFRESH-INTERVAL;VALUE=DURATION:PT1H
X-Robots-Tag:noindex
X-PUBLISHED-TTL:PT1H
BEGIN:VTIMEZONE
TZID:UTC
BEGIN:STANDARD
TZOFFSETFROM:+0000
TZOFFSETTO:+0000
TZNAME:UTC
DTSTART:20250101T000000
END:STANDARD
END:VTIMEZONE
BEGIN:VEVENT
DTSTART;TZID=UTC:20260421T103000
DTEND;TZID=UTC:20260421T113000
DTSTAMP:20260419T174657
CREATED:20251020T004600Z
LAST-MODIFIED:20251020T004604Z
UID:10007014-1776767400-1776771000@www.workingitout.org.au
SUMMARY:Pride Coffee - Smithton
DESCRIPTION:Pride Coffee is a monthly catch-up for the LGBTIQA+ community\, friends and allies. Held at Hugos Brew & Chew\, 55 Emmett St  in Smithton on the 3rd Tuesday of every month at 10:30am. RSVP garry@workingitout.org.au
URL:https://www.workingitout.org.au/event/pride-coffee-smithton-2/2026-04-21/
LOCATION:Hugo’s Brew & Chew\, 55 Emmett Street\, Smithton\, TAS\, 7010\, Australia
END:VEVENT
BEGIN:VEVENT
DTSTART;TZID=UTC:20260519T103000
DTEND;TZID=UTC:20260519T113000
DTSTAMP:20260419T174657
CREATED:20251020T004600Z
LAST-MODIFIED:20251020T004604Z
UID:10007015-1779186600-1779190200@www.workingitout.org.au
SUMMARY:Pride Coffee - Smithton
DESCRIPTION:Pride Coffee is a monthly catch-up for the LGBTIQA+ community\, friends and allies. Held at Hugos Brew & Chew\, 55 Emmett St  in Smithton on the 3rd Tuesday of every month at 10:30am. RSVP garry@workingitout.org.au
URL:https://www.workingitout.org.au/event/pride-coffee-smithton-2/2026-05-19/
LOCATION:Hugo’s Brew & Chew\, 55 Emmett Street\, Smithton\, TAS\, 7010\, Australia
END:VEVENT
BEGIN:VEVENT
DTSTART;TZID=UTC:20260616T103000
DTEND;TZID=UTC:20260616T113000
DTSTAMP:20260419T174657
CREATED:20251020T004600Z
LAST-MODIFIED:20251020T004604Z
UID:10007016-1781605800-1781609400@www.workingitout.org.au
SUMMARY:Pride Coffee - Smithton
DESCRIPTION:Pride Coffee is a monthly catch-up for the LGBTIQA+ community\, friends and allies. Held at Hugos Brew & Chew\, 55 Emmett St  in Smithton on the 3rd Tuesday of every month at 10:30am. RSVP garry@workingitout.org.au
URL:https://www.workingitout.org.au/event/pride-coffee-smithton-2/2026-06-16/
LOCATION:Hugo’s Brew & Chew\, 55 Emmett Street\, Smithton\, TAS\, 7010\, Australia
END:VEVENT
BEGIN:VEVENT
DTSTART;TZID=UTC:20260721T103000
DTEND;TZID=UTC:20260721T113000
DTSTAMP:20260419T174657
CREATED:20251020T004600Z
LAST-MODIFIED:20251020T004604Z
UID:10007017-1784629800-1784633400@www.workingitout.org.au
SUMMARY:Pride Coffee - Smithton
DESCRIPTION:Pride Coffee is a monthly catch-up for the LGBTIQA+ community\, friends and allies. Held at Hugos Brew & Chew\, 55 Emmett St  in Smithton on the 3rd Tuesday of every month at 10:30am. RSVP garry@workingitout.org.au
URL:https://www.workingitout.org.au/event/pride-coffee-smithton-2/2026-07-21/
LOCATION:Hugo’s Brew & Chew\, 55 Emmett Street\, Smithton\, TAS\, 7010\, Australia
END:VEVENT
BEGIN:VEVENT
DTSTART;TZID=UTC:20260818T103000
DTEND;TZID=UTC:20260818T113000
DTSTAMP:20260419T174657
CREATED:20251020T004600Z
LAST-MODIFIED:20251020T004604Z
UID:10007018-1787049000-1787052600@www.workingitout.org.au
SUMMARY:Pride Coffee - Smithton
DESCRIPTION:Pride Coffee is a monthly catch-up for the LGBTIQA+ community\, friends and allies. Held at Hugos Brew & Chew\, 55 Emmett St  in Smithton on the 3rd Tuesday of every month at 10:30am. RSVP garry@workingitout.org.au
URL:https://www.workingitout.org.au/event/pride-coffee-smithton-2/2026-08-18/
LOCATION:Hugo’s Brew & Chew\, 55 Emmett Street\, Smithton\, TAS\, 7010\, Australia
END:VEVENT
BEGIN:VEVENT
DTSTART;TZID=UTC:20260915T103000
DTEND;TZID=UTC:20260915T113000
DTSTAMP:20260419T174658
CREATED:20251020T004600Z
LAST-MODIFIED:20251020T004604Z
UID:10007019-1789468200-1789471800@www.workingitout.org.au
SUMMARY:Pride Coffee - Smithton
DESCRIPTION:Pride Coffee is a monthly catch-up for the LGBTIQA+ community\, friends and allies. Held at Hugos Brew & Chew\, 55 Emmett St  in Smithton on the 3rd Tuesday of every month at 10:30am. RSVP garry@workingitout.org.au
URL:https://www.workingitout.org.au/event/pride-coffee-smithton-2/2026-09-15/
LOCATION:Hugo’s Brew & Chew\, 55 Emmett Street\, Smithton\, TAS\, 7010\, Australia
END:VEVENT
BEGIN:VEVENT
DTSTART;TZID=UTC:20261020T103000
DTEND;TZID=UTC:20261020T113000
DTSTAMP:20260419T174658
CREATED:20251020T004600Z
LAST-MODIFIED:20251020T004604Z
UID:10007020-1792492200-1792495800@www.workingitout.org.au
SUMMARY:Pride Coffee - Smithton
DESCRIPTION:Pride Coffee is a monthly catch-up for the LGBTIQA+ community\, friends and allies. Held at Hugos Brew & Chew\, 55 Emmett St  in Smithton on the 3rd Tuesday of every month at 10:30am. RSVP garry@workingitout.org.au
URL:https://www.workingitout.org.au/event/pride-coffee-smithton-2/2026-10-20/
LOCATION:Hugo’s Brew & Chew\, 55 Emmett Street\, Smithton\, TAS\, 7010\, Australia
END:VEVENT
BEGIN:VEVENT
DTSTART;TZID=UTC:20261117T103000
DTEND;TZID=UTC:20261117T113000
DTSTAMP:20260419T174658
CREATED:20251020T004600Z
LAST-MODIFIED:20251020T004604Z
UID:10007021-1794911400-1794915000@www.workingitout.org.au
SUMMARY:Pride Coffee - Smithton
DESCRIPTION:Pride Coffee is a monthly catch-up for the LGBTIQA+ community\, friends and allies. Held at Hugos Brew & Chew\, 55 Emmett St  in Smithton on the 3rd Tuesday of every month at 10:30am. RSVP garry@workingitout.org.au
URL:https://www.workingitout.org.au/event/pride-coffee-smithton-2/2026-11-17/
LOCATION:Hugo’s Brew & Chew\, 55 Emmett Street\, Smithton\, TAS\, 7010\, Australia
END:VEVENT
BEGIN:VEVENT
DTSTART;TZID=UTC:20261215T103000
DTEND;TZID=UTC:20261215T113000
DTSTAMP:20260419T174658
CREATED:20251020T004600Z
LAST-MODIFIED:20251020T004604Z
UID:10007022-1797330600-1797334200@www.workingitout.org.au
SUMMARY:Pride Coffee - Smithton
DESCRIPTION:Pride Coffee is a monthly catch-up for the LGBTIQA+ community\, friends and allies. Held at Hugos Brew & Chew\, 55 Emmett St  in Smithton on the 3rd Tuesday of every month at 10:30am. RSVP garry@workingitout.org.au
URL:https://www.workingitout.org.au/event/pride-coffee-smithton-2/2026-12-15/
LOCATION:Hugo’s Brew & Chew\, 55 Emmett Street\, Smithton\, TAS\, 7010\, Australia
END:VEVENT
BEGIN:VEVENT
DTSTART;TZID=UTC:20270119T103000
DTEND;TZID=UTC:20270119T113000
DTSTAMP:20260419T174658
CREATED:20251020T004600Z
LAST-MODIFIED:20251020T004604Z
UID:10007023-1800354600-1800358200@www.workingitout.org.au
SUMMARY:Pride Coffee - Smithton
DESCRIPTION:Pride Coffee is a monthly catch-up for the LGBTIQA+ community\, friends and allies. Held at Hugos Brew & Chew\, 55 Emmett St  in Smithton on the 3rd Tuesday of every month at 10:30am. RSVP garry@workingitout.org.au
URL:https://www.workingitout.org.au/event/pride-coffee-smithton-2/2027-01-19/
LOCATION:Hugo’s Brew & Chew\, 55 Emmett Street\, Smithton\, TAS\, 7010\, Australia
END:VEVENT
BEGIN:VEVENT
DTSTART;TZID=UTC:20270216T103000
DTEND;TZID=UTC:20270216T113000
DTSTAMP:20260419T174658
CREATED:20251020T004600Z
LAST-MODIFIED:20251020T004604Z
UID:10007024-1802773800-1802777400@www.workingitout.org.au
SUMMARY:Pride Coffee - Smithton
DESCRIPTION:Pride Coffee is a monthly catch-up for the LGBTIQA+ community\, friends and allies. Held at Hugos Brew & Chew\, 55 Emmett St  in Smithton on the 3rd Tuesday of every month at 10:30am. RSVP garry@workingitout.org.au
URL:https://www.workingitout.org.au/event/pride-coffee-smithton-2/2027-02-16/
LOCATION:Hugo’s Brew & Chew\, 55 Emmett Street\, Smithton\, TAS\, 7010\, Australia
END:VEVENT
BEGIN:VEVENT
DTSTART;TZID=UTC:20270316T103000
DTEND;TZID=UTC:20270316T113000
DTSTAMP:20260419T174658
CREATED:20251020T004600Z
LAST-MODIFIED:20251020T004604Z
UID:10007025-1805193000-1805196600@www.workingitout.org.au
SUMMARY:Pride Coffee - Smithton
DESCRIPTION:Pride Coffee is a monthly catch-up for the LGBTIQA+ community\, friends and allies. Held at Hugos Brew & Chew\, 55 Emmett St  in Smithton on the 3rd Tuesday of every month at 10:30am. RSVP garry@workingitout.org.au
URL:https://www.workingitout.org.au/event/pride-coffee-smithton-2/2027-03-16/
LOCATION:Hugo’s Brew & Chew\, 55 Emmett Street\, Smithton\, TAS\, 7010\, Australia
END:VEVENT
BEGIN:VEVENT
DTSTART;TZID=UTC:20270420T103000
DTEND;TZID=UTC:20270420T113000
DTSTAMP:20260419T174658
CREATED:20251020T004600Z
LAST-MODIFIED:20251020T004604Z
UID:10007026-1808217000-1808220600@www.workingitout.org.au
SUMMARY:Pride Coffee - Smithton
DESCRIPTION:Pride Coffee is a monthly catch-up for the LGBTIQA+ community\, friends and allies. Held at Hugos Brew & Chew\, 55 Emmett St  in Smithton on the 3rd Tuesday of every month at 10:30am. RSVP garry@workingitout.org.au
URL:https://www.workingitout.org.au/event/pride-coffee-smithton-2/2027-04-20/
LOCATION:Hugo’s Brew & Chew\, 55 Emmett Street\, Smithton\, TAS\, 7010\, Australia
END:VEVENT
BEGIN:VEVENT
DTSTART;TZID=UTC:20270518T103000
DTEND;TZID=UTC:20270518T113000
DTSTAMP:20260419T174658
CREATED:20251020T004600Z
LAST-MODIFIED:20251020T004604Z
UID:10007027-1810636200-1810639800@www.workingitout.org.au
SUMMARY:Pride Coffee - Smithton
DESCRIPTION:Pride Coffee is a monthly catch-up for the LGBTIQA+ community\, friends and allies. Held at Hugos Brew & Chew\, 55 Emmett St  in Smithton on the 3rd Tuesday of every month at 10:30am. RSVP garry@workingitout.org.au
URL:https://www.workingitout.org.au/event/pride-coffee-smithton-2/2027-05-18/
LOCATION:Hugo’s Brew & Chew\, 55 Emmett Street\, Smithton\, TAS\, 7010\, Australia
END:VEVENT
BEGIN:VEVENT
DTSTART;TZID=UTC:20270615T103000
DTEND;TZID=UTC:20270615T113000
DTSTAMP:20260419T174658
CREATED:20251020T004600Z
LAST-MODIFIED:20251020T004604Z
UID:10007028-1813055400-1813059000@www.workingitout.org.au
SUMMARY:Pride Coffee - Smithton
DESCRIPTION:Pride Coffee is a monthly catch-up for the LGBTIQA+ community\, friends and allies. Held at Hugos Brew & Chew\, 55 Emmett St  in Smithton on the 3rd Tuesday of every month at 10:30am. RSVP garry@workingitout.org.au
URL:https://www.workingitout.org.au/event/pride-coffee-smithton-2/2027-06-15/
LOCATION:Hugo’s Brew & Chew\, 55 Emmett Street\, Smithton\, TAS\, 7010\, Australia
END:VEVENT
BEGIN:VEVENT
DTSTART;TZID=UTC:20270720T103000
DTEND;TZID=UTC:20270720T113000
DTSTAMP:20260419T174658
CREATED:20251020T004600Z
LAST-MODIFIED:20251020T004604Z
UID:10007029-1816079400-1816083000@www.workingitout.org.au
SUMMARY:Pride Coffee - Smithton
DESCRIPTION:Pride Coffee is a monthly catch-up for the LGBTIQA+ community\, friends and allies. Held at Hugos Brew & Chew\, 55 Emmett St  in Smithton on the 3rd Tuesday of every month at 10:30am. RSVP garry@workingitout.org.au
URL:https://www.workingitout.org.au/event/pride-coffee-smithton-2/2027-07-20/
LOCATION:Hugo’s Brew & Chew\, 55 Emmett Street\, Smithton\, TAS\, 7010\, Australia
END:VEVENT
BEGIN:VEVENT
DTSTART;TZID=UTC:20270817T103000
DTEND;TZID=UTC:20270817T113000
DTSTAMP:20260419T174658
CREATED:20251020T004600Z
LAST-MODIFIED:20251020T004604Z
UID:10007030-1818498600-1818502200@www.workingitout.org.au
SUMMARY:Pride Coffee - Smithton
DESCRIPTION:Pride Coffee is a monthly catch-up for the LGBTIQA+ community\, friends and allies. Held at Hugos Brew & Chew\, 55 Emmett St  in Smithton on the 3rd Tuesday of every month at 10:30am. RSVP garry@workingitout.org.au
URL:https://www.workingitout.org.au/event/pride-coffee-smithton-2/2027-08-17/
LOCATION:Hugo’s Brew & Chew\, 55 Emmett Street\, Smithton\, TAS\, 7010\, Australia
END:VEVENT
BEGIN:VEVENT
DTSTART;TZID=UTC:20270921T103000
DTEND;TZID=UTC:20270921T113000
DTSTAMP:20260419T174658
CREATED:20251020T004600Z
LAST-MODIFIED:20251020T004604Z
UID:10007031-1821522600-1821526200@www.workingitout.org.au
SUMMARY:Pride Coffee - Smithton
DESCRIPTION:Pride Coffee is a monthly catch-up for the LGBTIQA+ community\, friends and allies. Held at Hugos Brew & Chew\, 55 Emmett St  in Smithton on the 3rd Tuesday of every month at 10:30am. RSVP garry@workingitout.org.au
URL:https://www.workingitout.org.au/event/pride-coffee-smithton-2/2027-09-21/
LOCATION:Hugo’s Brew & Chew\, 55 Emmett Street\, Smithton\, TAS\, 7010\, Australia
END:VEVENT
BEGIN:VEVENT
DTSTART;TZID=UTC:20271019T103000
DTEND;TZID=UTC:20271019T113000
DTSTAMP:20260419T174658
CREATED:20251020T004600Z
LAST-MODIFIED:20251020T004604Z
UID:10007032-1823941800-1823945400@www.workingitout.org.au
SUMMARY:Pride Coffee - Smithton
DESCRIPTION:Pride Coffee is a monthly catch-up for the LGBTIQA+ community\, friends and allies. Held at Hugos Brew & Chew\, 55 Emmett St  in Smithton on the 3rd Tuesday of every month at 10:30am. RSVP garry@workingitout.org.au
URL:https://www.workingitout.org.au/event/pride-coffee-smithton-2/2027-10-19/
LOCATION:Hugo’s Brew & Chew\, 55 Emmett Street\, Smithton\, TAS\, 7010\, Australia
END:VEVENT
BEGIN:VEVENT
DTSTART;TZID=UTC:20271116T103000
DTEND;TZID=UTC:20271116T113000
DTSTAMP:20260419T174658
CREATED:20251020T004600Z
LAST-MODIFIED:20251020T004604Z
UID:10007033-1826361000-1826364600@www.workingitout.org.au
SUMMARY:Pride Coffee - Smithton
DESCRIPTION:Pride Coffee is a monthly catch-up for the LGBTIQA+ community\, friends and allies. Held at Hugos Brew & Chew\, 55 Emmett St  in Smithton on the 3rd Tuesday of every month at 10:30am. RSVP garry@workingitout.org.au
URL:https://www.workingitout.org.au/event/pride-coffee-smithton-2/2027-11-16/
LOCATION:Hugo’s Brew & Chew\, 55 Emmett Street\, Smithton\, TAS\, 7010\, Australia
END:VEVENT
BEGIN:VEVENT
DTSTART;TZID=UTC:20271221T103000
DTEND;TZID=UTC:20271221T113000
DTSTAMP:20260419T174658
CREATED:20251020T004600Z
LAST-MODIFIED:20251020T004604Z
UID:10007034-1829385000-1829388600@www.workingitout.org.au
SUMMARY:Pride Coffee - Smithton
DESCRIPTION:Pride Coffee is a monthly catch-up for the LGBTIQA+ community\, friends and allies. Held at Hugos Brew & Chew\, 55 Emmett St  in Smithton on the 3rd Tuesday of every month at 10:30am. RSVP garry@workingitout.org.au
URL:https://www.workingitout.org.au/event/pride-coffee-smithton-2/2027-12-21/
LOCATION:Hugo’s Brew & Chew\, 55 Emmett Street\, Smithton\, TAS\, 7010\, Australia
END:VEVENT
BEGIN:VEVENT
DTSTART;TZID=UTC:20280118T103000
DTEND;TZID=UTC:20280118T113000
DTSTAMP:20260419T174658
CREATED:20251020T004600Z
LAST-MODIFIED:20251020T004604Z
UID:10007035-1831804200-1831807800@www.workingitout.org.au
SUMMARY:Pride Coffee - Smithton
DESCRIPTION:Pride Coffee is a monthly catch-up for the LGBTIQA+ community\, friends and allies. Held at Hugos Brew & Chew\, 55 Emmett St  in Smithton on the 3rd Tuesday of every month at 10:30am. RSVP garry@workingitout.org.au
URL:https://www.workingitout.org.au/event/pride-coffee-smithton-2/2028-01-18/
LOCATION:Hugo’s Brew & Chew\, 55 Emmett Street\, Smithton\, TAS\, 7010\, Australia
END:VEVENT
BEGIN:VEVENT
DTSTART;TZID=UTC:20280215T103000
DTEND;TZID=UTC:20280215T113000
DTSTAMP:20260419T174658
CREATED:20251020T004600Z
LAST-MODIFIED:20251020T004604Z
UID:10007036-1834223400-1834227000@www.workingitout.org.au
SUMMARY:Pride Coffee - Smithton
DESCRIPTION:Pride Coffee is a monthly catch-up for the LGBTIQA+ community\, friends and allies. Held at Hugos Brew & Chew\, 55 Emmett St  in Smithton on the 3rd Tuesday of every month at 10:30am. RSVP garry@workingitout.org.au
URL:https://www.workingitout.org.au/event/pride-coffee-smithton-2/2028-02-15/
LOCATION:Hugo’s Brew & Chew\, 55 Emmett Street\, Smithton\, TAS\, 7010\, Australia
END:VEVENT
BEGIN:VEVENT
DTSTART;TZID=UTC:20280321T103000
DTEND;TZID=UTC:20280321T113000
DTSTAMP:20260419T174658
CREATED:20251020T004600Z
LAST-MODIFIED:20251020T004604Z
UID:10007037-1837247400-1837251000@www.workingitout.org.au
SUMMARY:Pride Coffee - Smithton
DESCRIPTION:Pride Coffee is a monthly catch-up for the LGBTIQA+ community\, friends and allies. Held at Hugos Brew & Chew\, 55 Emmett St  in Smithton on the 3rd Tuesday of every month at 10:30am. RSVP garry@workingitout.org.au
URL:https://www.workingitout.org.au/event/pride-coffee-smithton-2/2028-03-21/
LOCATION:Hugo’s Brew & Chew\, 55 Emmett Street\, Smithton\, TAS\, 7010\, Australia
END:VEVENT
BEGIN:VEVENT
DTSTART;TZID=UTC:20280418T103000
DTEND;TZID=UTC:20280418T113000
DTSTAMP:20260419T174658
CREATED:20251020T004600Z
LAST-MODIFIED:20251020T004604Z
UID:10007038-1839666600-1839670200@www.workingitout.org.au
SUMMARY:Pride Coffee - Smithton
DESCRIPTION:Pride Coffee is a monthly catch-up for the LGBTIQA+ community\, friends and allies. Held at Hugos Brew & Chew\, 55 Emmett St  in Smithton on the 3rd Tuesday of every month at 10:30am. RSVP garry@workingitout.org.au
URL:https://www.workingitout.org.au/event/pride-coffee-smithton-2/2028-04-18/
LOCATION:Hugo’s Brew & Chew\, 55 Emmett Street\, Smithton\, TAS\, 7010\, Australia
END:VEVENT
BEGIN:VEVENT
DTSTART;TZID=UTC:20280516T103000
DTEND;TZID=UTC:20280516T113000
DTSTAMP:20260419T174658
CREATED:20251020T004600Z
LAST-MODIFIED:20251020T004604Z
UID:10007039-1842085800-1842089400@www.workingitout.org.au
SUMMARY:Pride Coffee - Smithton
DESCRIPTION:Pride Coffee is a monthly catch-up for the LGBTIQA+ community\, friends and allies. Held at Hugos Brew & Chew\, 55 Emmett St  in Smithton on the 3rd Tuesday of every month at 10:30am. RSVP garry@workingitout.org.au
URL:https://www.workingitout.org.au/event/pride-coffee-smithton-2/2028-05-16/
LOCATION:Hugo’s Brew & Chew\, 55 Emmett Street\, Smithton\, TAS\, 7010\, Australia
END:VEVENT
BEGIN:VEVENT
DTSTART;TZID=UTC:20280620T103000
DTEND;TZID=UTC:20280620T113000
DTSTAMP:20260419T174658
CREATED:20251020T004600Z
LAST-MODIFIED:20251020T004604Z
UID:10007040-1845109800-1845113400@www.workingitout.org.au
SUMMARY:Pride Coffee - Smithton
DESCRIPTION:Pride Coffee is a monthly catch-up for the LGBTIQA+ community\, friends and allies. Held at Hugos Brew & Chew\, 55 Emmett St  in Smithton on the 3rd Tuesday of every month at 10:30am. RSVP garry@workingitout.org.au
URL:https://www.workingitout.org.au/event/pride-coffee-smithton-2/2028-06-20/
LOCATION:Hugo’s Brew & Chew\, 55 Emmett Street\, Smithton\, TAS\, 7010\, Australia
END:VEVENT
BEGIN:VEVENT
DTSTART;TZID=UTC:20280718T103000
DTEND;TZID=UTC:20280718T113000
DTSTAMP:20260419T174658
CREATED:20251020T004600Z
LAST-MODIFIED:20251020T004604Z
UID:10007041-1847529000-1847532600@www.workingitout.org.au
SUMMARY:Pride Coffee - Smithton
DESCRIPTION:Pride Coffee is a monthly catch-up for the LGBTIQA+ community\, friends and allies. Held at Hugos Brew & Chew\, 55 Emmett St  in Smithton on the 3rd Tuesday of every month at 10:30am. RSVP garry@workingitout.org.au
URL:https://www.workingitout.org.au/event/pride-coffee-smithton-2/2028-07-18/
LOCATION:Hugo’s Brew & Chew\, 55 Emmett Street\, Smithton\, TAS\, 7010\, Australia
END:VEVENT
BEGIN:VEVENT
DTSTART;TZID=UTC:20280815T103000
DTEND;TZID=UTC:20280815T113000
DTSTAMP:20260419T174658
CREATED:20251020T004600Z
LAST-MODIFIED:20251020T004604Z
UID:10007042-1849948200-1849951800@www.workingitout.org.au
SUMMARY:Pride Coffee - Smithton
DESCRIPTION:Pride Coffee is a monthly catch-up for the LGBTIQA+ community\, friends and allies. Held at Hugos Brew & Chew\, 55 Emmett St  in Smithton on the 3rd Tuesday of every month at 10:30am. RSVP garry@workingitout.org.au
URL:https://www.workingitout.org.au/event/pride-coffee-smithton-2/2028-08-15/
LOCATION:Hugo’s Brew & Chew\, 55 Emmett Street\, Smithton\, TAS\, 7010\, Australia
END:VEVENT
BEGIN:VEVENT
DTSTART;TZID=UTC:20280919T103000
DTEND;TZID=UTC:20280919T113000
DTSTAMP:20260419T174658
CREATED:20251020T004600Z
LAST-MODIFIED:20251020T004604Z
UID:10007043-1852972200-1852975800@www.workingitout.org.au
SUMMARY:Pride Coffee - Smithton
DESCRIPTION:Pride Coffee is a monthly catch-up for the LGBTIQA+ community\, friends and allies. Held at Hugos Brew & Chew\, 55 Emmett St  in Smithton on the 3rd Tuesday of every month at 10:30am. RSVP garry@workingitout.org.au
URL:https://www.workingitout.org.au/event/pride-coffee-smithton-2/2028-09-19/
LOCATION:Hugo’s Brew & Chew\, 55 Emmett Street\, Smithton\, TAS\, 7010\, Australia
END:VEVENT
END:VCALENDAR