BEGIN:VCALENDAR
VERSION:2.0
PRODID:-//Working It Out Inc. - ECPv6.15.20//NONSGML v1.0//EN
CALSCALE:GREGORIAN
METHOD:PUBLISH
X-WR-CALNAME:Working It Out Inc.
X-ORIGINAL-URL:https://www.workingitout.org.au
X-WR-CALDESC:Events for Working It Out Inc.
REFRESH-INTERVAL;VALUE=DURATION:PT1H
X-Robots-Tag:noindex
X-PUBLISHED-TTL:PT1H
BEGIN:VTIMEZONE
TZID:UTC
BEGIN:STANDARD
TZOFFSETFROM:+0000
TZOFFSETTO:+0000
TZNAME:UTC
DTSTART:20250101T000000
END:STANDARD
END:VTIMEZONE
BEGIN:VEVENT
DTSTART;TZID=UTC:20260214T200000
DTEND;TZID=UTC:20260214T233000
DTSTAMP:20260419T144829
CREATED:20260121T045708Z
LAST-MODIFIED:20260121T045710Z
UID:10008328-1771099200-1771111800@www.workingitout.org.au
SUMMARY:Judy's Pride Ball - TasPride Summer Festival Event
DESCRIPTION:Judy’s is back and ready to take over the Cathedral In The Hanging Garden for our massive 5th annual Pride Ball\, celebrating Tasmanian Pride! \n\n\n\n​ \n\n\n\nJoin us for an unforgettable night featuring incredible DJs\, spectacular drag\, thrilling burlesque\, and non-stop partying until the early hours. Don’t forget to enter the costume competition! \n\n\n\n​ \n\n\n\nIn The Hanging Garden \n\n\n\nThe Cathedral \n\n\n\n153 Liverpool Street\, Hobart
URL:https://www.workingitout.org.au/event/judys-pride-ball-taspride-summer-festival-event/
LOCATION:In The Hanging Garden\, 153 Liverpool St\, Hobart\, Tasmania\, Australia
ATTACH;FMTTYPE=image/avif:https://www.workingitout.org.au/wp-content/uploads/2026/01/JudysPrideBall.avif
END:VEVENT
END:VCALENDAR